BEGIN:VCALENDAR
VERSION:2.0
PRODID:-//One Way Ministries - ECPv6.15.20//NONSGML v1.0//EN
CALSCALE:GREGORIAN
METHOD:PUBLISH
X-WR-CALNAME:One Way Ministries
X-ORIGINAL-URL:https://onewayministries.ca
X-WR-CALDESC:Events for One Way Ministries
REFRESH-INTERVAL;VALUE=DURATION:PT1H
X-Robots-Tag:noindex
X-PUBLISHED-TTL:PT1H
BEGIN:VTIMEZONE
TZID:America/Toronto
BEGIN:DAYLIGHT
TZOFFSETFROM:-0500
TZOFFSETTO:-0400
TZNAME:EDT
DTSTART:20240310T070000
END:DAYLIGHT
BEGIN:STANDARD
TZOFFSETFROM:-0400
TZOFFSETTO:-0500
TZNAME:EST
DTSTART:20241103T060000
END:STANDARD
BEGIN:DAYLIGHT
TZOFFSETFROM:-0500
TZOFFSETTO:-0400
TZNAME:EDT
DTSTART:20250309T070000
END:DAYLIGHT
BEGIN:STANDARD
TZOFFSETFROM:-0400
TZOFFSETTO:-0500
TZNAME:EST
DTSTART:20251102T060000
END:STANDARD
BEGIN:DAYLIGHT
TZOFFSETFROM:-0500
TZOFFSETTO:-0400
TZNAME:EDT
DTSTART:20260308T070000
END:DAYLIGHT
BEGIN:STANDARD
TZOFFSETFROM:-0400
TZOFFSETTO:-0500
TZNAME:EST
DTSTART:20261101T060000
END:STANDARD
END:VTIMEZONE
BEGIN:VEVENT
DTSTART;TZID=America/Toronto:20250513T183000
DTEND;TZID=America/Toronto:20250513T203000
DTSTAMP:20260423T200225
CREATED:20250424T173742Z
LAST-MODIFIED:20250425T001218Z
UID:10000078-1747161000-1747168200@onewayministries.ca
SUMMARY:Ministry Wives - Spring Café
DESCRIPTION:For Women Married to Men in Ministry\, we invite you to a delightful Spring Café! \nIngrid Heeg will be sharing from her journey\, Anchoring Our Thoughts in the Lord. \nCome be encouraged\, uplifted\, and refreshed in the company of women who share your journey! \nDate: Tuesday\, May 13th\nTime: 6:30 p.m.\nLocation: Laurentian Leadership Centre \n\nIngrid will share how she anchors her thoughts on the Lord in the midst of ministry and life. She has a powerful testimony and many years of experience. Alongside her husband Geoff Heeg\, Ingrid now serves as co-campus pastor at Lifecentre Cornwall and is a devoted mother of six \nEasy to Get to! The Laurentian Leadership Center(LLC)\, on 252 Metcalfe St\, is very simple to reach and very close to the Highway 417. The LLC is just a few blocks north of the Museum of Nature. Twenty parking spots are available in the lot and many more on the street. Any parking cost will be covered by OWM. Just bring your parking receipt to us. \nWe can’t wait to see you there!\nArlene\, Jennifer and Tracy \nPlease rsvp by email Arlene.   \nAbout OWM View all posts by OWM
URL:https://onewayministries.ca/event-calendar/ministry-wives-spring-cafe/
LOCATION:laurentian Leadership Centre\, 252 Metcalfe St\, Ottawa\, Ontario\, Canada
CATEGORIES:Ministry Wives,One Way Ministries,Pastors Network
END:VEVENT
END:VCALENDAR