BEGIN:VCALENDAR
VERSION:2.0
PRODID:-//One Way Ministries - ECPv6.15.20//NONSGML v1.0//EN
CALSCALE:GREGORIAN
METHOD:PUBLISH
X-WR-CALNAME:One Way Ministries
X-ORIGINAL-URL:https://onewayministries.ca
X-WR-CALDESC:Events for One Way Ministries
REFRESH-INTERVAL;VALUE=DURATION:PT1H
X-Robots-Tag:noindex
X-PUBLISHED-TTL:PT1H
BEGIN:VTIMEZONE
TZID:America/Toronto
BEGIN:DAYLIGHT
TZOFFSETFROM:-0500
TZOFFSETTO:-0400
TZNAME:EDT
DTSTART:20210314T070000
END:DAYLIGHT
BEGIN:STANDARD
TZOFFSETFROM:-0400
TZOFFSETTO:-0500
TZNAME:EST
DTSTART:20211107T060000
END:STANDARD
BEGIN:DAYLIGHT
TZOFFSETFROM:-0500
TZOFFSETTO:-0400
TZNAME:EDT
DTSTART:20220313T070000
END:DAYLIGHT
BEGIN:STANDARD
TZOFFSETFROM:-0400
TZOFFSETTO:-0500
TZNAME:EST
DTSTART:20221106T060000
END:STANDARD
BEGIN:DAYLIGHT
TZOFFSETFROM:-0500
TZOFFSETTO:-0400
TZNAME:EDT
DTSTART:20230312T070000
END:DAYLIGHT
BEGIN:STANDARD
TZOFFSETFROM:-0400
TZOFFSETTO:-0500
TZNAME:EST
DTSTART:20231105T060000
END:STANDARD
END:VTIMEZONE
BEGIN:VEVENT
DTSTART;VALUE=DATE:20221017
DTEND;VALUE=DATE:20221020
DTSTAMP:20260423T200101
CREATED:20220527T165653Z
LAST-MODIFIED:20220809T200108Z
UID:10000035-1665964800-1666223999@onewayministries.ca
SUMMARY:Prayer Summit for Pastors and Ministry Leaders
DESCRIPTION:A time away with the Lord and with Peers\nSave the date!   \nOctober 17-19\, 2022\nat Camp Iawah \nThere is great potential when the pastors and leaders from a region prioritize a healthy prayer life that includes doing it together. \nClick here to register \nOur approach at this year’s Summit will be to forego having a speaker\, in favour of a fuller prayer experience. Our facilitators will help us tend to our inner lives with the Lord through worship and contemplative practices. We won’t stop there\, but also pursue God together in petition for one another’s churches and the spiritual health of our region and beyond. \nThe setting at Camp IAWAH will surround us with the quiet fall colours to rest our souls\, and the delights of sharing meals together\, prepared for us. \nThis gathering will be for the pastoral community and leaders of Christian ministries in the National Capital Region. Spouses are encouraged to attend. Register today!\n——-\nIl y a un grand potentiel lorsque les pasteurs et les dirigeants d’une région donnent la priorité à une vie de prière saine qui inclut de le faire ensemble. \nNotre approche au Sommet de cette année sera de renoncer à avoir un orateur\, au profit d’une expérience de prière plus complète. Nos animateurs nous aideront à prendre soin de notre vie intérieure avec le Seigneur par le biais d’adorations et de pratiques contemplatives. \nVous pouvez vous inscrire via Eventbrite \nNous ne nous arrêterons pas là\, mais nous poursuivrons également Dieu ensemble dans la pétition pour les églises des autres et la santé spirituelle de notre région et au-delà. \nLe cadre du Camp IAWAH nous entourera des couleurs d’automne tranquilles pour reposer nos âmes et des délices de partager ensemble les repas préparés pour nous. \nCe rassemblement s’adressera à la communauté pastorale et aux responsables des ministères chrétiens de la région de la capitale nationale. Les conjoints sont encouragés à y assister. Inscrivez-vous aujourd’hui! \nFacilitators/Facilitateurs Steve and Patti Buss  \nSteve and Patti Buss live to see the unlimited potential of the united Church in a community reflect Jesus and advance His kingdom. Together\, they lead the One Hope Network in Eugene\, Oregon\, a framework for local churches to Pray Together\, Serve the Community Together and Share the Gospel Together. \nSteve et Patti Buss vivent pour voir le potentiel illimité de l’Église unie dans une communauté qui reflète Jésus et faire progresser son royaume. Ensemble\, ils dirigent le One Hope Network à Eugene\, Oregon\, un cadre permettant aux églises locales de prier ensemble\, de servir la communauté ensemble et de partager l’Évangile ensemble. \nAbout OWM View all posts by OWM
URL:https://onewayministries.ca/event-calendar/prayer-summit-for-pastors-and-ministry-leaders/
LOCATION:Camp Iawah\, 304 Iawah Rd\, Godfrey\, ON K0H 1T0\, Canada
CATEGORIES:Ministry Wives,One Way Ministries,Pastors Network,Pray Ottawa
ATTACH;FMTTYPE=image/png:https://onewayministries.ca/wp-content/uploads/2022/05/PrayerSummit_emailbanner-small.png
END:VEVENT
END:VCALENDAR