BEGIN:VCALENDAR
VERSION:2.0
PRODID:-//One Way Ministries - ECPv6.15.20//NONSGML v1.0//EN
CALSCALE:GREGORIAN
METHOD:PUBLISH
X-ORIGINAL-URL:https://onewayministries.ca
X-WR-CALDESC:Events for One Way Ministries
REFRESH-INTERVAL;VALUE=DURATION:PT1H
X-Robots-Tag:noindex
X-PUBLISHED-TTL:PT1H
BEGIN:VTIMEZONE
TZID:America/Toronto
BEGIN:DAYLIGHT
TZOFFSETFROM:-0500
TZOFFSETTO:-0400
TZNAME:EDT
DTSTART:20240310T070000
END:DAYLIGHT
BEGIN:STANDARD
TZOFFSETFROM:-0400
TZOFFSETTO:-0500
TZNAME:EST
DTSTART:20241103T060000
END:STANDARD
BEGIN:DAYLIGHT
TZOFFSETFROM:-0500
TZOFFSETTO:-0400
TZNAME:EDT
DTSTART:20250309T070000
END:DAYLIGHT
BEGIN:STANDARD
TZOFFSETFROM:-0400
TZOFFSETTO:-0500
TZNAME:EST
DTSTART:20251102T060000
END:STANDARD
BEGIN:DAYLIGHT
TZOFFSETFROM:-0500
TZOFFSETTO:-0400
TZNAME:EDT
DTSTART:20260308T070000
END:DAYLIGHT
BEGIN:STANDARD
TZOFFSETFROM:-0400
TZOFFSETTO:-0500
TZNAME:EST
DTSTART:20261101T060000
END:STANDARD
END:VTIMEZONE
BEGIN:VEVENT
DTSTART;TZID=America/Toronto:20251103T170000
DTEND;TZID=America/Toronto:20251105T130000
DTSTAMP:20260424T082152
CREATED:20251020T164320Z
LAST-MODIFIED:20251020T182329Z
UID:10000085-1762189200-1762347600@onewayministries.ca
SUMMARY:Annual Prayer Summit
DESCRIPTION:The 26th Annual Prayer Summit is one event you don’t want to miss! \nNovember 3-5\nCamp Iawah\nRegister here today!\n\n\nThis gathering will be for the pastoral community and leaders of Christian ministries in the National Capital Region. \nOur planning team has been praying already\, and has sensed the Lord highlighting a question which we will explore together \n“What does it mean to be the Lord’s House of Prayer”? As we consider this question together\, experienced facilitators will assist us to draw near to God in both personal and corporate prayer. \nWe invite you to make this a priority in your fall planning. Come away with old and new friends\, enjoy breaking bread together\, beautiful scenery\, and the special presence and direction of our Lord. \n\n*Summit will begin with supper on Monday\, finishing with lunch on Wednesday. More details are on the Registration Page
URL:https://onewayministries.ca/event-calendar/annual-prayer-summit-2/
LOCATION:Camp Iawah\, 304 Iawah Rd\, Godfrey\, ON K0H 1T0\, Canada
CATEGORIES:Love Ottawa,Ministry Wives,One Way Ministries,Pastors Network,Pray Ottawa
ATTACH;FMTTYPE=image/png:https://onewayministries.ca/wp-content/uploads/2025/10/PrayerSummit-2025.png
END:VEVENT
END:VCALENDAR