BEGIN:VCALENDAR
VERSION:2.0
PRODID:-//One Way Ministries - ECPv6.15.20//NONSGML v1.0//EN
CALSCALE:GREGORIAN
METHOD:PUBLISH
X-ORIGINAL-URL:https://onewayministries.ca
X-WR-CALDESC:Events for One Way Ministries
REFRESH-INTERVAL;VALUE=DURATION:PT1H
X-Robots-Tag:noindex
X-PUBLISHED-TTL:PT1H
BEGIN:VTIMEZONE
TZID:America/Toronto
BEGIN:DAYLIGHT
TZOFFSETFROM:-0500
TZOFFSETTO:-0400
TZNAME:EDT
DTSTART:20240310T070000
END:DAYLIGHT
BEGIN:STANDARD
TZOFFSETFROM:-0400
TZOFFSETTO:-0500
TZNAME:EST
DTSTART:20241103T060000
END:STANDARD
BEGIN:DAYLIGHT
TZOFFSETFROM:-0500
TZOFFSETTO:-0400
TZNAME:EDT
DTSTART:20250309T070000
END:DAYLIGHT
BEGIN:STANDARD
TZOFFSETFROM:-0400
TZOFFSETTO:-0500
TZNAME:EST
DTSTART:20251102T060000
END:STANDARD
BEGIN:DAYLIGHT
TZOFFSETFROM:-0500
TZOFFSETTO:-0400
TZNAME:EDT
DTSTART:20260308T070000
END:DAYLIGHT
BEGIN:STANDARD
TZOFFSETFROM:-0400
TZOFFSETTO:-0500
TZNAME:EST
DTSTART:20261101T060000
END:STANDARD
END:VTIMEZONE
BEGIN:VEVENT
DTSTART;VALUE=DATE:20250119
DTEND;VALUE=DATE:20250126
DTSTAMP:20260424T230335
CREATED:20241015T193512Z
LAST-MODIFIED:20241015T193512Z
UID:10000073-1737244800-1737849599@onewayministries.ca
SUMMARY:City on Our Knees - January 19th to 25th
DESCRIPTION:“Lift Up Holy Hands in Prayer”\nGet ready to pray for Ottawa during City on our Knees: a citywide week of prayer from January 19 – 25\, 2025 \nPray with your family\, co-worker\, classmates\, neighbour\, church\, or group of churches! Whether you pray alone or with others\, you’ll be part of a citywide chorus “lifting up holy hands in prayer” (1 Tim. 2:8). \n\n\nMark the map where you’ll be praying\nOr find an event to join\nPray for God’s light to shine in our great city!\n\nCity on our Knees provides you with: \n\nthe map where you can post your plans and find prayer events\nprayer points for Ottawa\nvideos and slides to tell your friends about City on our Knees\nsimple ideas you might not have tried before\n\nOur theme for 2025 is “Lift Up Holy Hands in Prayer”\n\nGet started here! See cityonourknees.ca  for more information and to sign up!\n \n 
URL:https://onewayministries.ca/event-calendar/city-on-our-knees-january-2025/
END:VEVENT
END:VCALENDAR