BEGIN:VCALENDAR
VERSION:2.0
PRODID:-//One Way Ministries - ECPv6.15.20//NONSGML v1.0//EN
CALSCALE:GREGORIAN
METHOD:PUBLISH
X-ORIGINAL-URL:https://onewayministries.ca
X-WR-CALDESC:Events for One Way Ministries
REFRESH-INTERVAL;VALUE=DURATION:PT1H
X-Robots-Tag:noindex
X-PUBLISHED-TTL:PT1H
BEGIN:VTIMEZONE
TZID:America/Toronto
BEGIN:DAYLIGHT
TZOFFSETFROM:-0500
TZOFFSETTO:-0400
TZNAME:EDT
DTSTART:20230312T070000
END:DAYLIGHT
BEGIN:STANDARD
TZOFFSETFROM:-0400
TZOFFSETTO:-0500
TZNAME:EST
DTSTART:20231105T060000
END:STANDARD
BEGIN:DAYLIGHT
TZOFFSETFROM:-0500
TZOFFSETTO:-0400
TZNAME:EDT
DTSTART:20240310T070000
END:DAYLIGHT
BEGIN:STANDARD
TZOFFSETFROM:-0400
TZOFFSETTO:-0500
TZNAME:EST
DTSTART:20241103T060000
END:STANDARD
BEGIN:DAYLIGHT
TZOFFSETFROM:-0500
TZOFFSETTO:-0400
TZNAME:EDT
DTSTART:20250309T070000
END:DAYLIGHT
BEGIN:STANDARD
TZOFFSETFROM:-0400
TZOFFSETTO:-0500
TZNAME:EST
DTSTART:20251102T060000
END:STANDARD
END:VTIMEZONE
BEGIN:VEVENT
DTSTART;TZID=America/Toronto:20240119T070000
DTEND;TZID=America/Toronto:20240119T080000
DTSTAMP:20260425T181034
CREATED:20231128T203140Z
LAST-MODIFIED:20231128T203213Z
UID:10000057-1705647600-1705651200@onewayministries.ca
SUMMARY:Faith Driven Entrepreneur Ottawa
DESCRIPTION:Every Friday beginning January 19th\n7:00 am – 8:00 am\non ZOOM \nJoining a Faith Driven Entrepreneur Group means joining a community of people who\, perhaps for the first time in your life\, can really empathize with your journey of entrepreneurship. Sometimes\, even the people who love us the most cannot relate to the struggles that an entrepreneur faces daily…let alone\, a Faith Driven Entrepreneur. \nOne hour a week for 8 weeks\, you will connect with 10-15 like-minded entrepreneurs to walk through the Faith Driven Entrepreneur Foundation Study and discuss what it means to embrace your call to create and fulfill God’s purpose for your life and work. \nClick here to read more and register \n  \n 
URL:https://onewayministries.ca/event-calendar/faith-driven-entrepreneur-ottawa/
ATTACH;FMTTYPE=image/jpeg:https://onewayministries.ca/wp-content/uploads/2023/11/FaithDriven.jpg
END:VEVENT
BEGIN:VEVENT
DTSTART;VALUE=DATE:20240121
DTEND;VALUE=DATE:20240128
DTSTAMP:20260425T181034
CREATED:20231123T224223Z
LAST-MODIFIED:20231123T224223Z
UID:10000053-1705795200-1706399999@onewayministries.ca
SUMMARY:City on Our Knees - January 21 - 27
DESCRIPTION:“Lift Up The Light”\nGet ready to pray for Ottawa during City on our Knees: a citywide week of prayer from January 21 – 27\, 2024 \nPray with your family\, co-worker\, classmates\, neighbour\, church\, or group of churches! Whether you pray alone or with others\, you’ll be part of a citywide chorus praying for LIGHT in our city. \nSee cityonourknees.ca  for more information and to sign up!
URL:https://onewayministries.ca/event-calendar/city-on-our-knees-january-21-27/
END:VEVENT
END:VCALENDAR