BEGIN:VCALENDAR
VERSION:2.0
PRODID:-//One Way Ministries - ECPv6.15.20//NONSGML v1.0//EN
CALSCALE:GREGORIAN
METHOD:PUBLISH
X-WR-CALNAME:One Way Ministries
X-ORIGINAL-URL:https://onewayministries.ca
X-WR-CALDESC:Events for One Way Ministries
REFRESH-INTERVAL;VALUE=DURATION:PT1H
X-Robots-Tag:noindex
X-PUBLISHED-TTL:PT1H
BEGIN:VTIMEZONE
TZID:America/Toronto
BEGIN:DAYLIGHT
TZOFFSETFROM:-0500
TZOFFSETTO:-0400
TZNAME:EDT
DTSTART:20220313T070000
END:DAYLIGHT
BEGIN:STANDARD
TZOFFSETFROM:-0400
TZOFFSETTO:-0500
TZNAME:EST
DTSTART:20221106T060000
END:STANDARD
BEGIN:DAYLIGHT
TZOFFSETFROM:-0500
TZOFFSETTO:-0400
TZNAME:EDT
DTSTART:20230312T070000
END:DAYLIGHT
BEGIN:STANDARD
TZOFFSETFROM:-0400
TZOFFSETTO:-0500
TZNAME:EST
DTSTART:20231105T060000
END:STANDARD
BEGIN:DAYLIGHT
TZOFFSETFROM:-0500
TZOFFSETTO:-0400
TZNAME:EDT
DTSTART:20240310T070000
END:DAYLIGHT
BEGIN:STANDARD
TZOFFSETFROM:-0400
TZOFFSETTO:-0500
TZNAME:EST
DTSTART:20241103T060000
END:STANDARD
END:VTIMEZONE
BEGIN:VEVENT
DTSTART;TZID=America/Toronto:20231123T190000
DTEND;TZID=America/Toronto:20231123T210000
DTSTAMP:20260425T194834
CREATED:20231102T142932Z
LAST-MODIFIED:20231102T143218Z
UID:10000052-1700766000-1700773200@onewayministries.ca
SUMMARY:Join us for our special fall fundraising event
DESCRIPTION:As the year comes to an end\, our team wanted to invite you to join us for a fundraising and celebration evening to hear some of the stories of what the Lord is doing through One Way Ministries in our city and through our team. \nSpecial speaker\, Dr. Rick Reed\, will be sharing from his heart about investing in the future work of Christ and His Kingdom. Especially as it relates to the work He has given us to do in Ottawa and across Canada. \nPlease join us on Thursday\, November 23rd at 7:00 pm at Arlington Woods Free Methodist Church for this inspiring evening of fellowship. \nYou can RSVP/Register by emailing janice@onewayministries.ca \nLook forward to seeing you there!
URL:https://onewayministries.ca/event-calendar/join-us-for-our-special-fall-fundraising-event/
LOCATION:arlington woods
ATTACH;FMTTYPE=image/jpeg:https://onewayministries.ca/wp-content/uploads/2023/11/OWM_FallLetter2_Invite.jpg
END:VEVENT
END:VCALENDAR