BEGIN:VCALENDAR
VERSION:2.0
PRODID:-//One Way Ministries - ECPv6.15.20//NONSGML v1.0//EN
CALSCALE:GREGORIAN
METHOD:PUBLISH
X-ORIGINAL-URL:https://onewayministries.ca
X-WR-CALDESC:Events for One Way Ministries
REFRESH-INTERVAL;VALUE=DURATION:PT1H
X-Robots-Tag:noindex
X-PUBLISHED-TTL:PT1H
BEGIN:VTIMEZONE
TZID:America/Toronto
BEGIN:DAYLIGHT
TZOFFSETFROM:-0500
TZOFFSETTO:-0400
TZNAME:EDT
DTSTART:20230312T070000
END:DAYLIGHT
BEGIN:STANDARD
TZOFFSETFROM:-0400
TZOFFSETTO:-0500
TZNAME:EST
DTSTART:20231105T060000
END:STANDARD
BEGIN:DAYLIGHT
TZOFFSETFROM:-0500
TZOFFSETTO:-0400
TZNAME:EDT
DTSTART:20240310T070000
END:DAYLIGHT
BEGIN:STANDARD
TZOFFSETFROM:-0400
TZOFFSETTO:-0500
TZNAME:EST
DTSTART:20241103T060000
END:STANDARD
BEGIN:DAYLIGHT
TZOFFSETFROM:-0500
TZOFFSETTO:-0400
TZNAME:EDT
DTSTART:20250309T070000
END:DAYLIGHT
BEGIN:STANDARD
TZOFFSETFROM:-0400
TZOFFSETTO:-0500
TZNAME:EST
DTSTART:20251102T060000
END:STANDARD
END:VTIMEZONE
BEGIN:VEVENT
DTSTART;TZID=America/Toronto:20240412T070000
DTEND;TZID=America/Toronto:20240412T080000
DTSTAMP:20260425T102210
CREATED:20240402T010054Z
LAST-MODIFIED:20240402T010116Z
UID:10000062-1712905200-1712908800@onewayministries.ca
SUMMARY:Faith Driven Entrepreneur Ottawa
DESCRIPTION:Every Friday beginning April 12th\n7:00 am – 8:00 am\non ZOOM \nJoining a Faith Driven Entrepreneur Group means joining a community of people who\, perhaps for the first time in your life\, can really empathize with your journey of entrepreneurship. Sometimes\, even the people who love us the most cannot relate to the struggles that an entrepreneur faces daily…let alone\, a Faith Driven Entrepreneur. \nOne hour a week for 8 weeks\, you will connect with 10-15 like-minded entrepreneurs to walk through the Faith Driven Entrepreneur Foundation Study and discuss what it means to embrace your call to create and fulfill God’s purpose for your life and work. \nClick here to read more and register \n  \n 
URL:https://onewayministries.ca/event-calendar/faith-driven-entrepreneur-ottawa-2/
CATEGORIES:One Way Ministries,Workplace Network
ATTACH;FMTTYPE=image/jpeg:https://onewayministries.ca/wp-content/uploads/2023/11/FaithDriven.jpg
END:VEVENT
BEGIN:VEVENT
DTSTART;TZID=America/Toronto:20240426T090000
DTEND;TZID=America/Toronto:20240427T170000
DTSTAMP:20260425T102210
CREATED:20231123T225802Z
LAST-MODIFIED:20240402T005056Z
UID:10000055-1714122000-1714237200@onewayministries.ca
SUMMARY:Capitalyze Conference 2024
DESCRIPTION:The Lord is doing something beautiful in Canadian Cities –the level of unity is on the rise.\nJesus is being proclaimed. \nBe a part of CAPITALYZE\, a dynamic gathering in Ottawa \nApril 26-27\, 2024 \nThe CAPITALYZE CONFERENCE seeks to celebrate and accelerate the impact of city-wide movements in Ottawa\, across Canada and internationally.
URL:https://onewayministries.ca/event-calendar/capitalyze-conference-2024/
CATEGORIES:Love Ottawa,Ministry Wives,One Way Ministries,Pastors Network,Pray Ottawa,Workplace Network
ATTACH;FMTTYPE=image/png:https://onewayministries.ca/wp-content/uploads/2023/11/Capitalyze-banner-small-1.png
END:VEVENT
END:VCALENDAR