BEGIN:VCALENDAR
VERSION:2.0
PRODID:-//One Way Ministries - ECPv6.15.20//NONSGML v1.0//EN
CALSCALE:GREGORIAN
METHOD:PUBLISH
X-WR-CALNAME:One Way Ministries
X-ORIGINAL-URL:https://onewayministries.ca
X-WR-CALDESC:Events for One Way Ministries
REFRESH-INTERVAL;VALUE=DURATION:PT1H
X-Robots-Tag:noindex
X-PUBLISHED-TTL:PT1H
BEGIN:VTIMEZONE
TZID:America/Toronto
BEGIN:DAYLIGHT
TZOFFSETFROM:-0500
TZOFFSETTO:-0400
TZNAME:EDT
DTSTART:20250309T070000
END:DAYLIGHT
BEGIN:STANDARD
TZOFFSETFROM:-0400
TZOFFSETTO:-0500
TZNAME:EST
DTSTART:20251102T060000
END:STANDARD
BEGIN:DAYLIGHT
TZOFFSETFROM:-0500
TZOFFSETTO:-0400
TZNAME:EDT
DTSTART:20260308T070000
END:DAYLIGHT
BEGIN:STANDARD
TZOFFSETFROM:-0400
TZOFFSETTO:-0500
TZNAME:EST
DTSTART:20261101T060000
END:STANDARD
BEGIN:DAYLIGHT
TZOFFSETFROM:-0500
TZOFFSETTO:-0400
TZNAME:EDT
DTSTART:20270314T070000
END:DAYLIGHT
BEGIN:STANDARD
TZOFFSETFROM:-0400
TZOFFSETTO:-0500
TZNAME:EST
DTSTART:20271107T060000
END:STANDARD
END:VTIMEZONE
BEGIN:VEVENT
DTSTART;TZID=America/Toronto:20261030T064500
DTEND;TZID=America/Toronto:20261030T090000
DTSTAMP:20260424T100454
CREATED:20260212T190534Z
LAST-MODIFIED:20260213T163040Z
UID:10000088-1793342700-1793350800@onewayministries.ca
SUMMARY:Ottawa Civic Prayer Breakfast - Oct 30 2026
DESCRIPTION:Join us for the Ottawa Civic Prayer Breakfast – October 30th\, 2026 \nBe part of what is becoming the civic event of the year\,\nwith community leaders and Christians gathering from across the city\,\nto pray for our city\, the Mayor\, City Councillors and First Responders! \nReserve your seat today.  \nWhy a Prayer Breakfast? \n\nThe purpose of the annual gathering called the Ottawa Civic Prayer Breakfast is: to honour the Lord\,  to thank and pray for Civic Leaders and First Responders\, to be a catalyst for better neighbouring by the church and city\, to highlight and facilitate city/church partnerships\, and to help the church in Ottawa celebrate Jesus’ presence in our different expressions of Christian Faith. \n\nPurchase your ticket  and be part of this powerful morning of prayer and unity for our city \nFind full event details on the Ottawa Civic Prayer Breakfast website.
URL:https://onewayministries.ca/event-calendar/ottawa-civic-prayer-breakfast-oct-30-2026/
CATEGORIES:Love Ottawa,Ministry Wives,One Way Ministries,Pastors Network,Pray Ottawa,Workplace Network
END:VEVENT
BEGIN:VEVENT
DTSTART;TZID=America/Toronto:20261102T170000
DTEND;TZID=America/Toronto:20261104T130000
DTSTAMP:20260424T100454
CREATED:20260224T192437Z
LAST-MODIFIED:20260224T193037Z
UID:10000090-1793638800-1793797200@onewayministries.ca
SUMMARY:Annual Prayer Summit 2026 - Save the Date!
DESCRIPTION:The 27th Annual Prayer Summit is one event you don’t want to miss!\nNovember 2-4\, 2026\nCamp Iawah\nSave the date! \nThis gathering will be for the pastoral community and leaders of Christian ministries in the National Capital Region. \nOur planning team has been praying already\, and has sensed the Lord highlighting a question which we will explore together: “What does it mean to be a friend of God”? \nAs we consider this question together\, experienced facilitators will assist us to draw near to God in both personal and corporate prayer. \nWe invite you to make this a priority in your fall planning. Come away with old and new friends\, enjoy breaking bread together\, beautiful scenery\, and the special presence and direction of our Lord. \n*Summit will begin with supper on Monday\, finishing with lunch on Wednesday. Put the date in your calendar now.  Registration details to follow in the Spring.
URL:https://onewayministries.ca/event-calendar/annual-prayer-summit-2026-save-the-date/
LOCATION:Camp Iawah\, 304 Iawah Rd\, Godfrey\, ON K0H 1T0\, Canada
CATEGORIES:Ministry Wives,One Way Ministries,Pastors Network,Pray Ottawa
ATTACH;FMTTYPE=image/webp:https://onewayministries.ca/wp-content/uploads/2026/02/prayersummit2023-no-date.webp
END:VEVENT
END:VCALENDAR