BEGIN:VCALENDAR
VERSION:2.0
PRODID:-//One Way Ministries - ECPv6.15.20//NONSGML v1.0//EN
CALSCALE:GREGORIAN
METHOD:PUBLISH
X-ORIGINAL-URL:https://onewayministries.ca
X-WR-CALDESC:Events for One Way Ministries
REFRESH-INTERVAL;VALUE=DURATION:PT1H
X-Robots-Tag:noindex
X-PUBLISHED-TTL:PT1H
BEGIN:VTIMEZONE
TZID:America/Toronto
BEGIN:DAYLIGHT
TZOFFSETFROM:-0500
TZOFFSETTO:-0400
TZNAME:EDT
DTSTART:20230312T070000
END:DAYLIGHT
BEGIN:STANDARD
TZOFFSETFROM:-0400
TZOFFSETTO:-0500
TZNAME:EST
DTSTART:20231105T060000
END:STANDARD
BEGIN:DAYLIGHT
TZOFFSETFROM:-0500
TZOFFSETTO:-0400
TZNAME:EDT
DTSTART:20240310T070000
END:DAYLIGHT
BEGIN:STANDARD
TZOFFSETFROM:-0400
TZOFFSETTO:-0500
TZNAME:EST
DTSTART:20241103T060000
END:STANDARD
BEGIN:DAYLIGHT
TZOFFSETFROM:-0500
TZOFFSETTO:-0400
TZNAME:EDT
DTSTART:20250309T070000
END:DAYLIGHT
BEGIN:STANDARD
TZOFFSETFROM:-0400
TZOFFSETTO:-0500
TZNAME:EST
DTSTART:20251102T060000
END:STANDARD
END:VTIMEZONE
BEGIN:VEVENT
DTSTART;TZID=America/Toronto:20240925T080000
DTEND;TZID=America/Toronto:20240925T150000
DTSTAMP:20260424T215931
CREATED:20240808T204417Z
LAST-MODIFIED:20240808T204824Z
UID:10000065-1727251200-1727276400@onewayministries.ca
SUMMARY:Date with God - September 25\, 2024
DESCRIPTION:A Date with God\nTheme: J❤️Y\nSeptember 25\, 2024 – 8:00 am – 3:00 pm \n“You make known to me the path of life; you will fill me with joy in your presence\, with eternal pleasures at your right hand.”\nPsalm 16:11\n\nDo you have a discipline of purposely setting aside time for solitude and silence with the Lord? To turn off the noise and activities and be alone and still? To listen\, hear\, be refreshed and be renewed? Jesus knew the importance of this and at one point amid a crazy busy period\, he said to his disciples\, “Come away with me. Let us go alone to a quiet place and rest a while…” Mark 6:31 \nDo you long for such rest? Spending an extended time abiding in our Lord’s presence enables us to hear God’s still\, quiet voice. When we are intentional about setting this time aside\, we gain wisdom and experience refreshment\, grace and a release from the burdens that we are carrying. We emerge with a renewed sense of peace and joy that comes from experiencing a sense of togetherness with God. \nThere is never a “convenient” time to be with the Lord. It takes discipline and courage to carve this time out. Jesus was particularly attuned to this need and led His disciples into rhythms of solitude\, community and ministry. Even though many people must be encouraged repeatedly to do this (you know who you are!)\, we can honestly share that we have never spoken to anyone who set this time aside and reported it was a waste of time. In fact\, it is the contrary. \n“…for it is in the silence of the heart that God speaks. God is the friend of silence – we need to listen to God because it’s not what we say but what He says to us and through us that matters….” Mother Teresa \nHere is a testimonial from a participant who attended a previous “Date With God.” \n“I often have such good intentions to set aside time to be with God\, but somehow something interferes with my well-intentioned plans. The experience of a ”Date with God”\, accompanied by others\, and led in such a way as to provide a complementary environment of personal reflection and sharing with others\, has helped me realize those good intentions! “. \nAs we enter this autumn season\, will you consider blocking Wednesday\, September 25th from 8:00 am to 3:00 pm in your calendar for a “lightly facilitated” virtual Solo Silent Retreat? \nIf God has been whispering to you to spend time with Him\, click here to register. \nPlease note that this is a full-day event and is limited to 24 participants. It is a facilitated online event.  We would ask that everyone who registers be able to commit to being present from 8:00 to 3:00. \n\n\nREGISTER HERE FOR THIS EVENT!
URL:https://onewayministries.ca/event-calendar/date-with-god-september-25-2024/
LOCATION:Online
CATEGORIES:One Way Ministries,Workplace Network
ATTACH;FMTTYPE=image/jpeg:https://onewayministries.ca/wp-content/uploads/2021/08/date-with-God-fall.jpg
ORGANIZER;CN="Workplace Network":MAILTO:workplacenetwork@onewayministries.ca
END:VEVENT
END:VCALENDAR