BEGIN:VCALENDAR
VERSION:2.0
PRODID:-//One Way Ministries - ECPv6.15.20//NONSGML v1.0//EN
CALSCALE:GREGORIAN
METHOD:PUBLISH
X-WR-CALNAME:One Way Ministries
X-ORIGINAL-URL:https://onewayministries.ca
X-WR-CALDESC:Events for One Way Ministries
REFRESH-INTERVAL;VALUE=DURATION:PT1H
X-Robots-Tag:noindex
X-PUBLISHED-TTL:PT1H
BEGIN:VTIMEZONE
TZID:America/Toronto
BEGIN:DAYLIGHT
TZOFFSETFROM:-0500
TZOFFSETTO:-0400
TZNAME:EDT
DTSTART:20230312T070000
END:DAYLIGHT
BEGIN:STANDARD
TZOFFSETFROM:-0400
TZOFFSETTO:-0500
TZNAME:EST
DTSTART:20231105T060000
END:STANDARD
BEGIN:DAYLIGHT
TZOFFSETFROM:-0500
TZOFFSETTO:-0400
TZNAME:EDT
DTSTART:20240310T070000
END:DAYLIGHT
BEGIN:STANDARD
TZOFFSETFROM:-0400
TZOFFSETTO:-0500
TZNAME:EST
DTSTART:20241103T060000
END:STANDARD
BEGIN:DAYLIGHT
TZOFFSETFROM:-0500
TZOFFSETTO:-0400
TZNAME:EDT
DTSTART:20250309T070000
END:DAYLIGHT
BEGIN:STANDARD
TZOFFSETFROM:-0400
TZOFFSETTO:-0500
TZNAME:EST
DTSTART:20251102T060000
END:STANDARD
END:VTIMEZONE
BEGIN:VEVENT
DTSTART;TZID=America/Toronto:20240920T083000
DTEND;TZID=America/Toronto:20240920T113000
DTSTAMP:20260424T232857
CREATED:20240903T202352Z
LAST-MODIFIED:20240903T203057Z
UID:10000070-1726821000-1726831800@onewayministries.ca
SUMMARY:Faith Driven Entrepreneur Conference 2024
DESCRIPTION:Friday\, September 20th\, 8:30 am to 11:30 am (EST)\nHeld at One Way Ministries: 89 Auriga Drive\, Ottawa\nCost: $20.00\nRegister for the Watch Party \nFor too long\, the life of faith has been seen as a weakness in the business world when it’s actually our greatest strength. \nOur meaning isn’t found in what the world tells us is valuable. We find significance in surrender\, and in that surrender\, we find the freedom to take big risks\, do great work\, and compete in the marketplace. \nHear talks from innovative leaders like Lecrae\, Derwin Grey\, David Platt\, and David Kinnaman plus stories of entrepreneurs from Asia\, Africa\, Europe\, and the US. Find out more about the speakers here. \nRegister here for the Watch Party!
URL:https://onewayministries.ca/event-calendar/faith-driven-entrepreneur-conference-2024/
CATEGORIES:One Way Ministries,Workplace Network
ATTACH;FMTTYPE=image/png:https://onewayministries.ca/wp-content/uploads/2024/09/Watch-party.png
END:VEVENT
END:VCALENDAR