BEGIN:VCALENDAR
VERSION:2.0
PRODID:-//One Way Ministries - ECPv6.15.20//NONSGML v1.0//EN
CALSCALE:GREGORIAN
METHOD:PUBLISH
X-ORIGINAL-URL:https://onewayministries.ca
X-WR-CALDESC:Events for One Way Ministries
REFRESH-INTERVAL;VALUE=DURATION:PT1H
X-Robots-Tag:noindex
X-PUBLISHED-TTL:PT1H
BEGIN:VTIMEZONE
TZID:America/Toronto
BEGIN:DAYLIGHT
TZOFFSETFROM:-0500
TZOFFSETTO:-0400
TZNAME:EDT
DTSTART:20230312T070000
END:DAYLIGHT
BEGIN:STANDARD
TZOFFSETFROM:-0400
TZOFFSETTO:-0500
TZNAME:EST
DTSTART:20231105T060000
END:STANDARD
BEGIN:DAYLIGHT
TZOFFSETFROM:-0500
TZOFFSETTO:-0400
TZNAME:EDT
DTSTART:20240310T070000
END:DAYLIGHT
BEGIN:STANDARD
TZOFFSETFROM:-0400
TZOFFSETTO:-0500
TZNAME:EST
DTSTART:20241103T060000
END:STANDARD
BEGIN:DAYLIGHT
TZOFFSETFROM:-0500
TZOFFSETTO:-0400
TZNAME:EDT
DTSTART:20250309T070000
END:DAYLIGHT
BEGIN:STANDARD
TZOFFSETFROM:-0400
TZOFFSETTO:-0500
TZNAME:EST
DTSTART:20251102T060000
END:STANDARD
END:VTIMEZONE
BEGIN:VEVENT
DTSTART;TZID=America/Toronto:20240229T080000
DTEND;TZID=America/Toronto:20240229T150000
DTSTAMP:20260425T103650
CREATED:20240124T183426Z
LAST-MODIFIED:20240124T184027Z
UID:10000058-1709193600-1709218800@onewayministries.ca
SUMMARY:Date with God - Feb 29th
DESCRIPTION:“The Lord is my light and my salvation; whom shall I fear. The Lord is the stronghold of my life; of whom shall I be afraid”\nPsalm 27:1 ESV\n\nAs we begin a new year\, it seems like a perfect time to take a day to lock eyes with God and to hear His voice. \n“…for it is in the silence of the heart that God speaks. God is the friend of silence – we need to listen to God because it’s not what we say but what He says to us and through us that matters….” Mother Teresa \nSpending an extended time abiding in our Lord’s presence enables us to hear the still\, quiet voice of God. When we are intentional about setting this time aside\, we gain wisdom and experience refreshment\, grace\, and release from burdens that we are carrying. And we emerge with a renewed sense of peace and joy that comes from experiencing a sense of togetherness with God. \nThere is never a “convenient” time to be with the Lord. It takes discipline and courage to carve this time out. Block February 29th in your calendar and register now for this virtual Silent Retreat of listening time of prayer with the Lord\, which will be facilitated by Doug Sprunt of One Way Ministries. We are blessed with an extra day in February in 2024….what will you do with yours? What better way to spend it than on a date with God! Mark your calendar today! \nPlease note that this is a full day event and is limited to 24 participants. We would ask that everyone who registers be able to commit to being present from 8:00 to 3:00. \n\n\nREGISTER HERE FOR THIS EVENT!
URL:https://onewayministries.ca/event-calendar/date-with-god-feb-29th/
LOCATION:Online
CATEGORIES:One Way Ministries,Workplace Network
ATTACH;FMTTYPE=image/jpeg:https://onewayministries.ca/wp-content/uploads/2024/01/Winter.jpg
ORGANIZER;CN="Workplace Network":MAILTO:workplacenetwork@onewayministries.ca
END:VEVENT
END:VCALENDAR