BEGIN:VCALENDAR
VERSION:2.0
PRODID:-//One Way Ministries - ECPv6.15.20//NONSGML v1.0//EN
CALSCALE:GREGORIAN
METHOD:PUBLISH
X-ORIGINAL-URL:https://onewayministries.ca
X-WR-CALDESC:Events for One Way Ministries
REFRESH-INTERVAL;VALUE=DURATION:PT1H
X-Robots-Tag:noindex
X-PUBLISHED-TTL:PT1H
BEGIN:VTIMEZONE
TZID:America/Toronto
BEGIN:DAYLIGHT
TZOFFSETFROM:-0500
TZOFFSETTO:-0400
TZNAME:EDT
DTSTART:20220313T070000
END:DAYLIGHT
BEGIN:STANDARD
TZOFFSETFROM:-0400
TZOFFSETTO:-0500
TZNAME:EST
DTSTART:20221106T060000
END:STANDARD
BEGIN:DAYLIGHT
TZOFFSETFROM:-0500
TZOFFSETTO:-0400
TZNAME:EDT
DTSTART:20230312T070000
END:DAYLIGHT
BEGIN:STANDARD
TZOFFSETFROM:-0400
TZOFFSETTO:-0500
TZNAME:EST
DTSTART:20231105T060000
END:STANDARD
BEGIN:DAYLIGHT
TZOFFSETFROM:-0500
TZOFFSETTO:-0400
TZNAME:EDT
DTSTART:20240310T070000
END:DAYLIGHT
BEGIN:STANDARD
TZOFFSETFROM:-0400
TZOFFSETTO:-0500
TZNAME:EST
DTSTART:20241103T060000
END:STANDARD
END:VTIMEZONE
BEGIN:VEVENT
DTSTART;TZID=America/Toronto:20231027T070000
DTEND;TZID=America/Toronto:20231027T093000
DTSTAMP:20260425T181202
CREATED:20230705T020455Z
LAST-MODIFIED:20230705T022724Z
UID:10000048-1698390000-1698399000@onewayministries.ca
SUMMARY:Ottawa Civic Prayer Breakfast - Oct 27 2023
DESCRIPTION:Save the date for the Ottawa Civic Prayer Breakfast – October 27th \nJoin us for what is becoming the civic event of the year\,\nwith community leaders and Christians gathering from across the city\,\nto pray for our city\, the Mayor\, City Councillors and First Responders! \nWhy a Prayer Breakfast? \n\nThe purpose of the annual gathering called the Ottawa Civic Prayer Breakfast is: to honour the Lord\,  to thank and pray for Civic Leaders and First Responders\, to be a catalyst for better neighbouring by the church and city\, to highlight and facilitate city/church partnerships\, and to help the church in Ottawa celebrate Jesus’ presence in our different expressions of Christian Faith. \n2023 OCPB Speaker \nMajor Jim Mercer will be the OCPB 2023 speaker. In the light of his present role as the Social Mission Officer at the Ottawa Booth Center here in Ottawa\, Jim will be answering our annual OCPB question of “Who is Your Neighbour?” through the lens of his work with the vulnerable and at-risk population among us. \n\n\nFriday\, October 27th\nEarly Bird Price of $35 before October 12th.\nClick here buy your ticket! \n\nVisit our Ottawa Civic Prayer Breakfast website for more details!
URL:https://onewayministries.ca/event-calendar/ottawa-civic-prayer-breakfast-oct-27-2023/
CATEGORIES:Love Ottawa,Ministry Wives,One Way Ministries,Pastors Network,Pray Ottawa,Workplace Network
END:VEVENT
END:VCALENDAR