BEGIN:VCALENDAR
VERSION:2.0
PRODID:-//One Way Ministries - ECPv6.15.20//NONSGML v1.0//EN
CALSCALE:GREGORIAN
METHOD:PUBLISH
X-WR-CALNAME:One Way Ministries
X-ORIGINAL-URL:https://onewayministries.ca
X-WR-CALDESC:Events for One Way Ministries
REFRESH-INTERVAL;VALUE=DURATION:PT1H
X-Robots-Tag:noindex
X-PUBLISHED-TTL:PT1H
BEGIN:VTIMEZONE
TZID:America/Toronto
BEGIN:DAYLIGHT
TZOFFSETFROM:-0500
TZOFFSETTO:-0400
TZNAME:EDT
DTSTART:20200308T070000
END:DAYLIGHT
BEGIN:STANDARD
TZOFFSETFROM:-0400
TZOFFSETTO:-0500
TZNAME:EST
DTSTART:20201101T060000
END:STANDARD
BEGIN:DAYLIGHT
TZOFFSETFROM:-0500
TZOFFSETTO:-0400
TZNAME:EDT
DTSTART:20210314T070000
END:DAYLIGHT
BEGIN:STANDARD
TZOFFSETFROM:-0400
TZOFFSETTO:-0500
TZNAME:EST
DTSTART:20211107T060000
END:STANDARD
BEGIN:DAYLIGHT
TZOFFSETFROM:-0500
TZOFFSETTO:-0400
TZNAME:EDT
DTSTART:20220313T070000
END:DAYLIGHT
BEGIN:STANDARD
TZOFFSETFROM:-0400
TZOFFSETTO:-0500
TZNAME:EST
DTSTART:20221106T060000
END:STANDARD
BEGIN:DAYLIGHT
TZOFFSETFROM:-0500
TZOFFSETTO:-0400
TZNAME:EDT
DTSTART:20230312T070000
END:DAYLIGHT
BEGIN:STANDARD
TZOFFSETFROM:-0400
TZOFFSETTO:-0500
TZNAME:EST
DTSTART:20231105T060000
END:STANDARD
END:VTIMEZONE
BEGIN:VEVENT
DTSTART;TZID=America/Toronto:20220414T120000
DTEND;TZID=America/Toronto:20220414T124500
DTSTAMP:20260423T183836
CREATED:20220404T185229Z
LAST-MODIFIED:20220404T185405Z
UID:10000031-1649937600-1649940300@onewayministries.ca
SUMMARY:Workplace Network Easter Reading 2022
DESCRIPTION:Workplace Network lunchtime event commemorating the crucifixion of Jesus and celebration of His resurrection.\nPlease join us Thursday\, April 14 for a reading of Matthew 26 – 28\, and invite a colleague for whom this reading may be their sole opportunity this Easter to hear such Good News.\n\nREGISTER HERE
URL:https://onewayministries.ca/event-calendar/workplace-network-easter-reading-2022/
LOCATION:Online
CATEGORIES:One Way Ministries,Workplace Network
ATTACH;FMTTYPE=image/png:https://onewayministries.ca/wp-content/uploads/2022/04/Easter.png
ORGANIZER;CN="Workplace Network":MAILTO:workplacenetwork@onewayministries.ca
END:VEVENT
BEGIN:VEVENT
DTSTART;TZID=America/Toronto:20220322T120000
DTEND;TZID=America/Toronto:20220322T124500
DTSTAMP:20260423T183836
CREATED:20220311T182911Z
LAST-MODIFIED:20220311T191505Z
UID:10000026-1647950400-1647953100@onewayministries.ca
SUMMARY:Taking Our Faith to Work - James Joh
DESCRIPTION:A lunchtime event in which we hear from fellow believers what taking their faith to work means. \nIn this interactive session\, you will hear from James Joh\, Founder and Coach at Avodah Leadership. James is a transformational coach for marketplace Christian leaders. He envisions leaders in every industry transforming the workplace by creatively translating their faith. \nGet Connected – Get Inspired – Learn and Grow \nTake YOUR Faith to work! \nREGISTER HERE!
URL:https://onewayministries.ca/event-calendar/taking-our-faith-to-work-james-joh/
LOCATION:Online
CATEGORIES:One Way Ministries,Workplace Network
ATTACH;FMTTYPE=image/png:https://onewayministries.ca/wp-content/uploads/2022/03/James-Joh.png
ORGANIZER;CN="Workplace Network":MAILTO:workplacenetwork@onewayministries.ca
END:VEVENT
BEGIN:VEVENT
DTSTART;TZID=America/Toronto:20220301T120000
DTEND;TZID=America/Toronto:20220301T124500
DTSTAMP:20260423T183836
CREATED:20220204T170746Z
LAST-MODIFIED:20220204T171302Z
UID:10000021-1646136000-1646138700@onewayministries.ca
SUMMARY:Workplace Prayer Group Leaders Networking Meeting
DESCRIPTION:Are you leading a workplace Christian prayer group\, bible study or support group? \nOr would you like to start one?  \nOne Way Ministries Workplace Network is organizing a lunchtime networking event Tuesday\, September 7th bringing together Christian leaders from across Ottawa\, across different workplaces\, across denominations\, and across the public and private sectors. We share experiences\, encourage one another\, and pray for one another. \nWorkplace Prayer Groups are groups who pray together\, do a bible study together and/or share what is happening in their work and seek guidance from a Christian perspective. Members have enough in common\, so they understand each other\, can help each other and pray for one another and their workplace.  \nThere are already several workplace prayer groups in both the private and public sectors operating in Ottawa. One Way Ministries Workplace Network’s heart is to see a multiplication of these groups and be a coordination point for those interested to join or start such a group. \nPlease REGISTER here \nThis event is being offered at no charge but if you would like to support the ministry of the Workplace Network\, please click here.
URL:https://onewayministries.ca/event-calendar/workplace-prayer-group-leaders-networking-meeting/
LOCATION:Online
CATEGORIES:One Way Ministries,Workplace Network
ATTACH;FMTTYPE=image/jpeg:https://onewayministries.ca/wp-content/uploads/2022/02/PGM.jpg
ORGANIZER;CN="Workplace Network":MAILTO:workplacenetwork@onewayministries.ca
END:VEVENT
BEGIN:VEVENT
DTSTART;TZID=America/Toronto:20220221T080000
DTEND;TZID=America/Toronto:20220221T084500
DTSTAMP:20260423T183836
CREATED:20220207T135419Z
LAST-MODIFIED:20220207T135419Z
UID:10000023-1645430400-1645433100@onewayministries.ca
SUMMARY:Business Owners' Prayer Call
DESCRIPTION:Join other Marketplace folks for a time of sharing and prayer for our businesses and our city. \nThis is a weekly call and please contact workplacenetwork@onewayministries.ca to receive the link for these recurring online meetings.
URL:https://onewayministries.ca/event-calendar/business-owners-prayer-call/2022-02-21/
CATEGORIES:Workplace Network
ORGANIZER;CN="Workplace Network":MAILTO:workplacenetwork@onewayministries.ca
END:VEVENT
BEGIN:VEVENT
DTSTART;TZID=America/Toronto:20220216T080000
DTEND;TZID=America/Toronto:20220216T150000
DTSTAMP:20260423T183836
CREATED:20220203T231951Z
LAST-MODIFIED:20220203T234142Z
UID:10000020-1644998400-1645023600@onewayministries.ca
SUMMARY:Date with God
DESCRIPTION:As we begin a new year\, it seems like a perfect time to take a day to lock eyes with God and to hear His voice. \n“…for it is in the silence of the heart that God speaks. God is the friend of silence – we need to listen to God because it’s not what we say but what He says to us and through us that matters….” Mother Teresa \nSpending an extended time abiding in our Lord’s presence enables us to hear the still\, quiet voice of God. When we are intentional about setting this time aside\, we gain wisdom and experience refreshment\, grace\, and release from burdens that we are carrying. And we emerge with a renewed sense of peace and joy that comes from experiencing a sense of togetherness with God.  \nThere is never a “convenient” time to be with the Lord. It takes discipline and courage to carve this time out. Block February 16th in your calendar and register now for this virtual Silent Retreat of listening time of prayer with the Lord\, which will be facilitated by Doug Sprunt of One Way Ministries. \nPlease note that this is a full-day event and is limited to 24 participants. We would ask that everyone who registers be able to commit to being present from 8:00 to 3:00. \nClick here to REGISTER \nThis event is being offered at no charge but if you would like to support the ministry of the Workplace Network\, please click here.
URL:https://onewayministries.ca/event-calendar/date-with-god/
LOCATION:Online
CATEGORIES:One Way Ministries,Workplace Network
ATTACH;FMTTYPE=image/jpeg:https://onewayministries.ca/wp-content/uploads/2022/02/Winter.jpg
ORGANIZER;CN="Workplace Network":MAILTO:workplacenetwork@onewayministries.ca
END:VEVENT
BEGIN:VEVENT
DTSTART;TZID=America/Toronto:20220119T170000
DTEND;TZID=America/Toronto:20220119T180000
DTSTAMP:20260423T183836
CREATED:20211109T194559Z
LAST-MODIFIED:20211217T200222Z
UID:10000019-1642611600-1642615200@onewayministries.ca
SUMMARY:Workplace Summit
DESCRIPTION:Event Webpage\n			\n			\n				\n				\n				\n				\n				\n				Register
URL:https://onewayministries.ca/event-calendar/workplace-summit/
LOCATION:Online
CATEGORIES:Workplace Network
ATTACH;FMTTYPE=image/png:https://onewayministries.ca/wp-content/uploads/2021/11/OWM-Workplace-eventbrite.png
ORGANIZER;CN="Workplace Network":MAILTO:workplacenetwork@onewayministries.ca
END:VEVENT
BEGIN:VEVENT
DTSTART;TZID=America/Toronto:20211203T080000
DTEND;TZID=America/Toronto:20211203T084500
DTSTAMP:20260423T183836
CREATED:20210811T174525Z
LAST-MODIFIED:20211110T165050Z
UID:10000012-1638518400-1638521100@onewayministries.ca
SUMMARY:Business Owners' Prayer Call
DESCRIPTION:Join other Marketplace folks for a time of sharing and prayer for our businesses and our city. \nThis is a weekly call and please contact workplacenetwork@onewayministries.ca to receive the link for these recurring online meetings.
URL:https://onewayministries.ca/event-calendar/monday-morning-prayer-for-business/2021-12-03/
CATEGORIES:Workplace Network
ORGANIZER;CN="Workplace Network":MAILTO:workplacenetwork@onewayministries.ca
END:VEVENT
BEGIN:VEVENT
DTSTART;TZID=America/Toronto:20211103T080000
DTEND;TZID=America/Toronto:20211103T084500
DTSTAMP:20260423T183836
CREATED:20210811T174525Z
LAST-MODIFIED:20211110T165050Z
UID:10000011-1635926400-1635929100@onewayministries.ca
SUMMARY:Business Owners' Prayer Call
DESCRIPTION:Join other Marketplace folks for a time of sharing and prayer for our businesses and our city. \nThis is a weekly call and please contact workplacenetwork@onewayministries.ca to receive the link for these recurring online meetings.
URL:https://onewayministries.ca/event-calendar/monday-morning-prayer-for-business/2021-11-03/
CATEGORIES:Workplace Network
ORGANIZER;CN="Workplace Network":MAILTO:workplacenetwork@onewayministries.ca
END:VEVENT
BEGIN:VEVENT
DTSTART;TZID=America/Toronto:20211003T080000
DTEND;TZID=America/Toronto:20211003T084500
DTSTAMP:20260423T183836
CREATED:20210811T174525Z
LAST-MODIFIED:20211110T165050Z
UID:10000010-1633248000-1633250700@onewayministries.ca
SUMMARY:Business Owners' Prayer Call
DESCRIPTION:Join other Marketplace folks for a time of sharing and prayer for our businesses and our city. \nThis is a weekly call and please contact workplacenetwork@onewayministries.ca to receive the link for these recurring online meetings.
URL:https://onewayministries.ca/event-calendar/monday-morning-prayer-for-business/2021-10-03/
CATEGORIES:Workplace Network
ORGANIZER;CN="Workplace Network":MAILTO:workplacenetwork@onewayministries.ca
END:VEVENT
BEGIN:VEVENT
DTSTART;TZID=America/Toronto:20210928T080000
DTEND;TZID=America/Toronto:20210928T150000
DTSTAMP:20260423T183836
CREATED:20210830T161302Z
LAST-MODIFIED:20210830T161302Z
UID:10000001-1632816000-1632841200@onewayministries.ca
SUMMARY:A Date With God
DESCRIPTION:Do you long for such rest? Spending an extended time abiding in our Lord’s presence enables us to hear the still\, quiet voice of God. When we are intentional about setting this time aside\, we gain wisdom\, and experience refreshment\, grace and a release from the burdens that we are carrying. We emerge with a renewed sense of peace and joy that comes from experiencing a sense of togetherness with God. \nThere is never a “convenient” time to be with the Lord. It takes discipline and courage to carve this time out. Jesus was particularly attuned to this need and led His disciples into rhythms of solitude\, community and ministry. Even though many people must be encouraged repeatedly to do this (you know who you are!)\, we can honestly share that we have never spoken to anyone who set this time aside and reported it was a waste of time. In fact\, it is the contrary. \nPlease note that this is a full-day event and is limited to 24 participants. We would ask that everyone who registers be able to commit to being present from 8:00 – 3:00. \nClick here to register.
URL:https://onewayministries.ca/event-calendar/a-date-with-god/
CATEGORIES:Workplace Network
ORGANIZER;CN="Workplace Network":MAILTO:workplacenetwork@onewayministries.ca
END:VEVENT
BEGIN:VEVENT
DTSTART;TZID=America/Toronto:20210907T120000
DTEND;TZID=America/Toronto:20210907T130000
DTSTAMP:20260423T183836
CREATED:20210830T155959Z
LAST-MODIFIED:20210830T155959Z
UID:10000002-1631016000-1631019600@onewayministries.ca
SUMMARY:Workplace Prayer Group Leader's Meeting
DESCRIPTION:Are you leading a workplace Christian prayer group\, bible study or support group? \nOr would you like to start one? \nOne Way Ministries Workplace Network is organizing our third lunchtime networking meeting on Tuesday\, September 2nd\, bringing together Christian leaders from across Ottawa\, different workplaces\, denominations\, and the public and private sectors. We share experiences\, encourage one another\, and pray for one another. \nWorkplace Prayer Groups are groups who pray together\, do a bible study together and/or share what is happening in their work and seek guidance from a Christian perspective. Members have enough in common\, so they understand each other\, can help each other and pray for one another and their workplace. \nThere are already several workplace prayer groups in both the private and public sectors operating in Ottawa. One Way Ministries Workplace Network’s heart is to see a multiplication of these groups and be a coordination point for those interested in joining or starting such a group. \nHelp us build a stronger community of Christians living out their faith in the workplace by joining us and by inviting colleague or friend. It’s as easy as forwarding this email to them with a personal invite from you! \nClick here to register.
URL:https://onewayministries.ca/event-calendar/workplace-prayer-group-leaders-meeting/
CATEGORIES:Workplace Network
ORGANIZER;CN="Workplace Network":MAILTO:workplacenetwork@onewayministries.ca
END:VEVENT
BEGIN:VEVENT
DTSTART;TZID=America/Toronto:20210903T080000
DTEND;TZID=America/Toronto:20210903T084500
DTSTAMP:20260423T183836
CREATED:20210811T174525Z
LAST-MODIFIED:20211110T165050Z
UID:10000009-1630656000-1630658700@onewayministries.ca
SUMMARY:Business Owners' Prayer Call
DESCRIPTION:Join other Marketplace folks for a time of sharing and prayer for our businesses and our city. \nThis is a weekly call and please contact workplacenetwork@onewayministries.ca to receive the link for these recurring online meetings.
URL:https://onewayministries.ca/event-calendar/monday-morning-prayer-for-business/2021-09-03/
CATEGORIES:Workplace Network
ORGANIZER;CN="Workplace Network":MAILTO:workplacenetwork@onewayministries.ca
END:VEVENT
BEGIN:VEVENT
DTSTART;TZID=America/Toronto:20210803T080000
DTEND;TZID=America/Toronto:20210803T084500
DTSTAMP:20260423T183836
CREATED:20210811T174525Z
LAST-MODIFIED:20211110T165050Z
UID:10000008-1627977600-1627980300@onewayministries.ca
SUMMARY:Business Owners' Prayer Call
DESCRIPTION:Join other Marketplace folks for a time of sharing and prayer for our businesses and our city. \nThis is a weekly call and please contact workplacenetwork@onewayministries.ca to receive the link for these recurring online meetings.
URL:https://onewayministries.ca/event-calendar/monday-morning-prayer-for-business/2021-08-03/
CATEGORIES:Workplace Network
ORGANIZER;CN="Workplace Network":MAILTO:workplacenetwork@onewayministries.ca
END:VEVENT
END:VCALENDAR