BEGIN:VCALENDAR
VERSION:2.0
PRODID:-//One Way Ministries - ECPv6.15.20//NONSGML v1.0//EN
CALSCALE:GREGORIAN
METHOD:PUBLISH
X-WR-CALNAME:One Way Ministries
X-ORIGINAL-URL:https://onewayministries.ca
X-WR-CALDESC:Events for One Way Ministries
REFRESH-INTERVAL;VALUE=DURATION:PT1H
X-Robots-Tag:noindex
X-PUBLISHED-TTL:PT1H
BEGIN:VTIMEZONE
TZID:America/Toronto
BEGIN:DAYLIGHT
TZOFFSETFROM:-0500
TZOFFSETTO:-0400
TZNAME:EDT
DTSTART:20240310T070000
END:DAYLIGHT
BEGIN:STANDARD
TZOFFSETFROM:-0400
TZOFFSETTO:-0500
TZNAME:EST
DTSTART:20241103T060000
END:STANDARD
BEGIN:DAYLIGHT
TZOFFSETFROM:-0500
TZOFFSETTO:-0400
TZNAME:EDT
DTSTART:20250309T070000
END:DAYLIGHT
BEGIN:STANDARD
TZOFFSETFROM:-0400
TZOFFSETTO:-0500
TZNAME:EST
DTSTART:20251102T060000
END:STANDARD
BEGIN:DAYLIGHT
TZOFFSETFROM:-0500
TZOFFSETTO:-0400
TZNAME:EDT
DTSTART:20260308T070000
END:DAYLIGHT
BEGIN:STANDARD
TZOFFSETFROM:-0400
TZOFFSETTO:-0500
TZNAME:EST
DTSTART:20261101T060000
END:STANDARD
END:VTIMEZONE
BEGIN:VEVENT
DTSTART;TZID=America/Toronto:20251003T070000
DTEND;TZID=America/Toronto:20251003T080000
DTSTAMP:20260424T005615
CREATED:20250722T132815Z
LAST-MODIFIED:20250722T132815Z
UID:10000081-1759474800-1759478400@onewayministries.ca
SUMMARY:Faith Driven Entrepreneur Ottawa - Fall 2025
DESCRIPTION:Every Friday beginning October 3rd\n7:00 am – 8:00 am\non ZOOM \nJoining a Faith Driven Entrepreneur Group means joining a community of people who\, perhaps for the first time in your life\, can really empathize with your journey of entrepreneurship. Sometimes\, even the people who love us the most cannot relate to the struggles that an entrepreneur faces daily…let alone\, a Faith Driven Entrepreneur. \nOne hour a week for 8 weeks\, you will connect with 10-15 like-minded entrepreneurs to walk through the Faith Driven Entrepreneur Foundation Study and discuss what it means to embrace your call to create and fulfill God’s purpose for your life and work. \nClick here to read more and register.  \n  \n 
URL:https://onewayministries.ca/event-calendar/faith-driven-entrepreneur-ottawa-4/
CATEGORIES:One Way Ministries,Workplace Network
ATTACH;FMTTYPE=image/jpeg:https://onewayministries.ca/wp-content/uploads/2023/11/FaithDriven.jpg
END:VEVENT
BEGIN:VEVENT
DTSTART;TZID=America/Toronto:20251031T064500
DTEND;TZID=America/Toronto:20251031T090000
DTSTAMP:20260424T005615
CREATED:20250218T225547Z
LAST-MODIFIED:20250722T133628Z
UID:10000077-1761893100-1761901200@onewayministries.ca
SUMMARY:Ottawa Civic Prayer Breakfast - Oct 31 2025
DESCRIPTION:Join us for the Ottawa Civic Prayer Breakfast – October 31st\, 2025 \nBe part of what is becoming the civic event of the year\,\nwith community leaders and Christians gathering from across the city\,\nto pray for our city\, the Mayor\, City Councillors and First Responders! \nOur Ottawa Prayer Breakfast 2025 speaker will be Rev. Jon Ruby. A former addict turned preacher and community organizer\, he will answer our annual OCPB question “Who is My Neighbour? through the lens of his work with men and women struggling with addiction.  Reserve your seat today.  \nWhy a Prayer Breakfast? \n\nThe purpose of the annual gathering called the Ottawa Civic Prayer Breakfast is: to honour the Lord\,  to thank and pray for Civic Leaders and First Responders\, to be a catalyst for better neighbouring by the church and city\, to highlight and facilitate city/church partnerships\, and to help the church in Ottawa celebrate Jesus’ presence in our different expressions of Christian Faith. \n\nPurchase your ticket  and be part of this powerful morning of prayer and unity for our city \nFind full event details on the Ottawa Civic Prayer Breakfast website.
URL:https://onewayministries.ca/event-calendar/ottawa-civic-prayer-breakfast-oct-31-2025/
CATEGORIES:Love Ottawa,Ministry Wives,One Way Ministries,Pastors Network,Pray Ottawa,Workplace Network
END:VEVENT
END:VCALENDAR