BEGIN:VCALENDAR
VERSION:2.0
PRODID:-//One Way Ministries - ECPv6.15.20//NONSGML v1.0//EN
CALSCALE:GREGORIAN
METHOD:PUBLISH
X-WR-CALNAME:One Way Ministries
X-ORIGINAL-URL:https://onewayministries.ca
X-WR-CALDESC:Events for One Way Ministries
REFRESH-INTERVAL;VALUE=DURATION:PT1H
X-Robots-Tag:noindex
X-PUBLISHED-TTL:PT1H
BEGIN:VTIMEZONE
TZID:America/Toronto
BEGIN:DAYLIGHT
TZOFFSETFROM:-0500
TZOFFSETTO:-0400
TZNAME:EDT
DTSTART:20220313T070000
END:DAYLIGHT
BEGIN:STANDARD
TZOFFSETFROM:-0400
TZOFFSETTO:-0500
TZNAME:EST
DTSTART:20221106T060000
END:STANDARD
BEGIN:DAYLIGHT
TZOFFSETFROM:-0500
TZOFFSETTO:-0400
TZNAME:EDT
DTSTART:20230312T070000
END:DAYLIGHT
BEGIN:STANDARD
TZOFFSETFROM:-0400
TZOFFSETTO:-0500
TZNAME:EST
DTSTART:20231105T060000
END:STANDARD
BEGIN:DAYLIGHT
TZOFFSETFROM:-0500
TZOFFSETTO:-0400
TZNAME:EDT
DTSTART:20240310T070000
END:DAYLIGHT
BEGIN:STANDARD
TZOFFSETFROM:-0400
TZOFFSETTO:-0500
TZNAME:EST
DTSTART:20241103T060000
END:STANDARD
END:VTIMEZONE
BEGIN:VEVENT
DTSTART;TZID=America/Toronto:20230907T073000
DTEND;TZID=America/Toronto:20230907T130000
DTSTAMP:20260425T151112
CREATED:20230811T205310Z
LAST-MODIFIED:20230811T205310Z
UID:10000049-1694071800-1694091600@onewayministries.ca
SUMMARY:OWM Open Golf Tournament
DESCRIPTION:Join us for this great morning of golf! Come for 18 holes of golf with a cart\, lunch\, prizes and time to get to know some great people! \nThursday\, September 7th 2023: 7:30 am – 1:30pm\nThe Meadow Golf & Country Club\n\n\nWe will be using the Scramble format to accommodate all levels of golfers from rookies to veterans.\n\nBe sure to invite a pastor or leader who hasn’t joined us before! This will be a fun day for them to meet other leaders.\n\nClick here to register!\n\n 
URL:https://onewayministries.ca/event-calendar/owm-open-golf-tournament-2/
LOCATION:The Meadows Golf & Country Club\, 4335 Hawthorne Road\, Gloucester\, ON\, K1G 3N4\, Canada
CATEGORIES:Ministry Wives,One Way Ministries,Pastors Network,Workplace Network
END:VEVENT
BEGIN:VEVENT
DTSTART;TZID=America/Toronto:20230920T130000
DTEND;TZID=America/Toronto:20230920T143000
DTSTAMP:20260425T151112
CREATED:20230811T205813Z
LAST-MODIFIED:20230811T205833Z
UID:10000050-1695214800-1695220200@onewayministries.ca
SUMMARY:Doing Business with God
DESCRIPTION:Doing Business with God\nWhen: September 20th\, 1:00 – 2:00 pm (plus optional 30 mins for Q&A)\nWhere: Online – please REGISTER for a spot\nFee: FREE \nOne Way Ministries Workplace Network and More than Enough are proud to present the second session in our five-part explorative and interactive discussion: Doing Business with God. \nAll are welcome\, even if you missed the first session\, which you can find here. \nJoin Destiny Johnson and Bron Vasic from More Than Enough as they explore – whether you are still considering Entrepreneurship or you’ve already ventured into business ownership – biblical principles and being in business as followers of Jesus. \nSession 2 will cover the following questions: \n\nHow to be focussed? How do I guard against distractions and crossing boundaries?\nA “trusted advisory group” of friends or mentors or maybe even a formal board. How to establish and maintain a holding foundation or pillars of support around me?\nSo whether you eat or drink or whatever you do\, do it all for the glory of God (1 Cor 10:31). How can I glorify God\, even in my day-to-day assignments & leadership duties?\nHow does my service/product reveal Christ in me as I steward God’s vision on earth?\nDo I lead (people\, service\, product) with integrity – or do I change natures outside of the office or based on my quota deadlines?\nWhat practical steps and tools do I apply throughout my day to keep me centred on Christ and focused on the true vision\, when it’s so easy to lean into the race of the world’s system?\nDaily rhythms: intentionally planning moments seeking God’s guidance to inspire a continuous servant leadership posture.\n\nMark your calendar for the next session: November 15. \nRegister today! 
URL:https://onewayministries.ca/event-calendar/doing-business-with-god/
CATEGORIES:One Way Ministries,Workplace Network
END:VEVENT
BEGIN:VEVENT
DTSTART;TZID=America/Toronto:20230927T080000
DTEND;TZID=America/Toronto:20230927T150000
DTSTAMP:20260425T151112
CREATED:20230811T210312Z
LAST-MODIFIED:20230811T210312Z
UID:10000051-1695801600-1695826800@onewayministries.ca
SUMMARY:Date with God - September 27th
DESCRIPTION:Spending an extended time abiding in God’s presence enables us to hear the still\, quiet voice of God and sense the direction he has for us.\n\nAs we move into fall\, it seems like a perfect time to take a day to lock eyes with God and to hear His voice.\n\n“…for it is in the silence of the heart that God speaks. God is the friend of silence – we need to listen to God because it’s not what we say but what He says to us and through us that matters….” Mother Teresa\n\nSpending an extended time abiding in our Lord’s presence enables us to hear the still\, quiet voice of God. When we are intentional about setting this time aside\, we gain wisdom and experience refreshment\, grace\, and release from burdens that we are carrying. And we emerge with a renewed sense of peace and joy that comes from experiencing a sense of togetherness with God.\n\nThere is never a “convenient” time to be with the Lord. It takes discipline and courage to carve this time out. Block September 27th in your calendar and register now for this virtual Silent Retreat of listening time of prayer with the Lord\, which will be facilitated by Doug Sprunt of One Way Ministries.\n\nPlease note that this is a full-day event and is limited to 24 participants. We would ask that everyone who registers be able to commit to being present from 8:00 to 3:00.\n\nREGISTER HERE FOR THIS EVENT!
URL:https://onewayministries.ca/event-calendar/date-with-god-september-27th/
LOCATION:Online
CATEGORIES:One Way Ministries,Workplace Network
ATTACH;FMTTYPE=image/jpeg:https://onewayministries.ca/wp-content/uploads/2021/08/date-with-God-fall.jpg
ORGANIZER;CN="Workplace Network":MAILTO:workplacenetwork@onewayministries.ca
END:VEVENT
END:VCALENDAR