BEGIN:VCALENDAR
VERSION:2.0
PRODID:-//One Way Ministries - ECPv6.15.20//NONSGML v1.0//EN
CALSCALE:GREGORIAN
METHOD:PUBLISH
X-ORIGINAL-URL:https://onewayministries.ca
X-WR-CALDESC:Events for One Way Ministries
REFRESH-INTERVAL;VALUE=DURATION:PT1H
X-Robots-Tag:noindex
X-PUBLISHED-TTL:PT1H
BEGIN:VTIMEZONE
TZID:America/Toronto
BEGIN:DAYLIGHT
TZOFFSETFROM:-0500
TZOFFSETTO:-0400
TZNAME:EDT
DTSTART:20220313T070000
END:DAYLIGHT
BEGIN:STANDARD
TZOFFSETFROM:-0400
TZOFFSETTO:-0500
TZNAME:EST
DTSTART:20221106T060000
END:STANDARD
BEGIN:DAYLIGHT
TZOFFSETFROM:-0500
TZOFFSETTO:-0400
TZNAME:EDT
DTSTART:20230312T070000
END:DAYLIGHT
BEGIN:STANDARD
TZOFFSETFROM:-0400
TZOFFSETTO:-0500
TZNAME:EST
DTSTART:20231105T060000
END:STANDARD
BEGIN:DAYLIGHT
TZOFFSETFROM:-0500
TZOFFSETTO:-0400
TZNAME:EDT
DTSTART:20240310T070000
END:DAYLIGHT
BEGIN:STANDARD
TZOFFSETFROM:-0400
TZOFFSETTO:-0500
TZNAME:EST
DTSTART:20241103T060000
END:STANDARD
END:VTIMEZONE
BEGIN:VEVENT
DTSTART;TZID=America/Toronto:20230324T190000
DTEND;TZID=America/Toronto:20230325T120000
DTSTAMP:20260426T002047
CREATED:20230321T204418Z
LAST-MODIFIED:20230321T204755Z
UID:10000043-1679684400-1679745600@onewayministries.ca
SUMMARY:Dig & Delve - The Resurrection
DESCRIPTION:The Resurrection\nThe Worldview Defining Event You May Be Underestimating \nFRIDAY\, MARCH 24th – SATURDAY\, MARCH 25th\, 2023\n\nOn Friday evening and Saturday morning\, March 24-25 we will be hosting Dr. Mike Licona\, one of the world’s foremost scholars on the historical truthfulness and trustworthiness of the resurrection of Jesus. If true\, the resurrection of Jesus changes everything! Your life\, your understanding of the world\, where history is going\, and more! \nAs always\, we will leave lots of time for your questions. Plan to attend with your friends! Bring your hardest questions! Bring your doubts and fears! Questions are always welcome!  Find out more information at Dig & Delve \nWe will be hosting this as a hybrid event – both ONLINE and IN-PERSON. Our speaker will be live at the event so lots of good panel discussions and Q&A times will be included. More details will be provided upon registration. \nClick here to Register for In-person or Online! \nFriday\, March 24th 7:00 – 9:30 pm\nSaturday\, March 25th 9:00 am – 12:00 pm
URL:https://onewayministries.ca/event-calendar/digdelveresurrection/
LOCATION:Metropolitan Bible Church\, 2176 Prince of Wales Dr\, Nepean\, ON K2E 0A1
CATEGORIES:Love Ottawa,One Way Ministries,Pastors Network,Workplace Network
END:VEVENT
END:VCALENDAR