BEGIN:VCALENDAR
VERSION:2.0
PRODID:-//One Way Ministries - ECPv6.15.20//NONSGML v1.0//EN
CALSCALE:GREGORIAN
METHOD:PUBLISH
X-ORIGINAL-URL:https://onewayministries.ca
X-WR-CALDESC:Events for One Way Ministries
REFRESH-INTERVAL;VALUE=DURATION:PT1H
X-Robots-Tag:noindex
X-PUBLISHED-TTL:PT1H
BEGIN:VTIMEZONE
TZID:America/Toronto
BEGIN:DAYLIGHT
TZOFFSETFROM:-0500
TZOFFSETTO:-0400
TZNAME:EDT
DTSTART:20220313T070000
END:DAYLIGHT
BEGIN:STANDARD
TZOFFSETFROM:-0400
TZOFFSETTO:-0500
TZNAME:EST
DTSTART:20221106T060000
END:STANDARD
BEGIN:DAYLIGHT
TZOFFSETFROM:-0500
TZOFFSETTO:-0400
TZNAME:EDT
DTSTART:20230312T070000
END:DAYLIGHT
BEGIN:STANDARD
TZOFFSETFROM:-0400
TZOFFSETTO:-0500
TZNAME:EST
DTSTART:20231105T060000
END:STANDARD
BEGIN:DAYLIGHT
TZOFFSETFROM:-0500
TZOFFSETTO:-0400
TZNAME:EDT
DTSTART:20240310T070000
END:DAYLIGHT
BEGIN:STANDARD
TZOFFSETFROM:-0400
TZOFFSETTO:-0500
TZNAME:EST
DTSTART:20241103T060000
END:STANDARD
END:VTIMEZONE
BEGIN:VEVENT
DTSTART;TZID=America/Toronto:20230525T100000
DTEND;TZID=America/Toronto:20230527T120000
DTSTAMP:20260426T002337
CREATED:20230322T124806Z
LAST-MODIFIED:20230328T214736Z
UID:10000046-1685008800-1685188800@onewayministries.ca
SUMMARY:The Book Lover's Sale
DESCRIPTION:SAVE THE DATE!\nTHE FAITH-BASED BOOK LOVER’S Sale is Back!\nMay 25th – 27th \nBooks\, books and more books will be for sale at this year’s Love Ottawa Book Sale Fundraiser. \nPlease mark your Calendar for May 25th – 27th. Visit  the Book Lover’s website (click here) for more details on the event. \nDo you have faith-based books you would like to donate? Please visit the Book Lover’s website for more information on donating books and book drop-off dates and locations.  New this year\, there will be baked goods and coffee will be available for purchase. \nThe proceeds of this year’s Book Sale will go to The Code4Girls.  Visit thecodeottawa.ca website for more information about this vital ministry. \n 
URL:https://onewayministries.ca/event-calendar/the-book-lovers-sale/
LOCATION:One Way Ministries\, 89 Auriga Drive\, Nepean\, Canada
CATEGORIES:Love Ottawa,Ministry Wives,One Way Ministries,Pastors Network,Pray Ottawa
ATTACH;FMTTYPE=image/png:https://onewayministries.ca/wp-content/uploads/2023/03/Screen-Shot-2023-03-28-at-5.46.34-PM.png
END:VEVENT
END:VCALENDAR