BEGIN:VCALENDAR
VERSION:2.0
PRODID:-//One Way Ministries - ECPv6.15.20//NONSGML v1.0//EN
CALSCALE:GREGORIAN
METHOD:PUBLISH
X-ORIGINAL-URL:https://onewayministries.ca
X-WR-CALDESC:Events for One Way Ministries
REFRESH-INTERVAL;VALUE=DURATION:PT1H
X-Robots-Tag:noindex
X-PUBLISHED-TTL:PT1H
BEGIN:VTIMEZONE
TZID:America/Toronto
BEGIN:DAYLIGHT
TZOFFSETFROM:-0500
TZOFFSETTO:-0400
TZNAME:EDT
DTSTART:20200308T070000
END:DAYLIGHT
BEGIN:STANDARD
TZOFFSETFROM:-0400
TZOFFSETTO:-0500
TZNAME:EST
DTSTART:20201101T060000
END:STANDARD
BEGIN:DAYLIGHT
TZOFFSETFROM:-0500
TZOFFSETTO:-0400
TZNAME:EDT
DTSTART:20210314T070000
END:DAYLIGHT
BEGIN:STANDARD
TZOFFSETFROM:-0400
TZOFFSETTO:-0500
TZNAME:EST
DTSTART:20211107T060000
END:STANDARD
BEGIN:DAYLIGHT
TZOFFSETFROM:-0500
TZOFFSETTO:-0400
TZNAME:EDT
DTSTART:20220313T070000
END:DAYLIGHT
BEGIN:STANDARD
TZOFFSETFROM:-0400
TZOFFSETTO:-0500
TZNAME:EST
DTSTART:20221106T060000
END:STANDARD
BEGIN:DAYLIGHT
TZOFFSETFROM:-0500
TZOFFSETTO:-0400
TZNAME:EDT
DTSTART:20230312T070000
END:DAYLIGHT
BEGIN:STANDARD
TZOFFSETFROM:-0400
TZOFFSETTO:-0500
TZNAME:EST
DTSTART:20231105T060000
END:STANDARD
BEGIN:DAYLIGHT
TZOFFSETFROM:-0500
TZOFFSETTO:-0400
TZNAME:EDT
DTSTART:20240310T070000
END:DAYLIGHT
BEGIN:STANDARD
TZOFFSETFROM:-0400
TZOFFSETTO:-0500
TZNAME:EST
DTSTART:20241103T060000
END:STANDARD
END:VTIMEZONE
BEGIN:VEVENT
DTSTART;TZID=America/Toronto:20230423T180000
DTEND;TZID=America/Toronto:20230423T200000
DTSTAMP:20260423T170121
CREATED:20230321T205403Z
LAST-MODIFIED:20230321T224734Z
UID:10000044-1682272800-1682280000@onewayministries.ca
SUMMARY:Dig & Delve Dialogue
DESCRIPTION:DIG & DELVE and the South Asian Christian Fellowship Present:\nAn Evening with Vishal Mangalwadi\nSunday\, April 23rd\, 6:00 pm \nSt. Paul’s Presbyterian Church\, Woodroffe Ave. \nDIG & DELVE and the South Asian Christian Fellowship invite you to come to this special evening with Vishal. He will be sharing with us thoughts stemming from his recent book “The Book that Made Your World: How the Bible Created the Soul of Western Civilization”.\nThere will be no charge for this event but a free-will offering will be taken. Stay afterwards for a time of light refreshments and conversation. \nCLICK HERE TO REGISTER \n“In this postmodern age many think that no one can know Truth.\nIt is true that we cannot know truth if there is no revelation from God.” – Vishal Mangalwadi
URL:https://onewayministries.ca/event-calendar/dig-delve-dialogue/
LOCATION:St. Paul’s Presbyterian Church\, 971 Woodroffe Avenue Ottawa\, ON K2A 3G9
CATEGORIES:Love Ottawa,One Way Ministries,Pastors Network,Workplace Network
END:VEVENT
BEGIN:VEVENT
DTSTART;TZID=America/Toronto:20230324T190000
DTEND;TZID=America/Toronto:20230325T120000
DTSTAMP:20260423T170121
CREATED:20230321T204418Z
LAST-MODIFIED:20230321T204755Z
UID:10000043-1679684400-1679745600@onewayministries.ca
SUMMARY:Dig & Delve - The Resurrection
DESCRIPTION:The Resurrection\nThe Worldview Defining Event You May Be Underestimating \nFRIDAY\, MARCH 24th – SATURDAY\, MARCH 25th\, 2023\n\nOn Friday evening and Saturday morning\, March 24-25 we will be hosting Dr. Mike Licona\, one of the world’s foremost scholars on the historical truthfulness and trustworthiness of the resurrection of Jesus. If true\, the resurrection of Jesus changes everything! Your life\, your understanding of the world\, where history is going\, and more! \nAs always\, we will leave lots of time for your questions. Plan to attend with your friends! Bring your hardest questions! Bring your doubts and fears! Questions are always welcome!  Find out more information at Dig & Delve \nWe will be hosting this as a hybrid event – both ONLINE and IN-PERSON. Our speaker will be live at the event so lots of good panel discussions and Q&A times will be included. More details will be provided upon registration. \nClick here to Register for In-person or Online! \nFriday\, March 24th 7:00 – 9:30 pm\nSaturday\, March 25th 9:00 am – 12:00 pm
URL:https://onewayministries.ca/event-calendar/digdelveresurrection/
LOCATION:Metropolitan Bible Church\, 2176 Prince of Wales Dr\, Nepean\, ON K2E 0A1
CATEGORIES:Love Ottawa,One Way Ministries,Pastors Network,Workplace Network
END:VEVENT
BEGIN:VEVENT
DTSTART;VALUE=DATE:20221017
DTEND;VALUE=DATE:20221020
DTSTAMP:20260423T170121
CREATED:20220527T165653Z
LAST-MODIFIED:20220809T200108Z
UID:10000035-1665964800-1666223999@onewayministries.ca
SUMMARY:Prayer Summit for Pastors and Ministry Leaders
DESCRIPTION:A time away with the Lord and with Peers\nSave the date!   \nOctober 17-19\, 2022\nat Camp Iawah \nThere is great potential when the pastors and leaders from a region prioritize a healthy prayer life that includes doing it together. \nClick here to register \nOur approach at this year’s Summit will be to forego having a speaker\, in favour of a fuller prayer experience. Our facilitators will help us tend to our inner lives with the Lord through worship and contemplative practices. We won’t stop there\, but also pursue God together in petition for one another’s churches and the spiritual health of our region and beyond. \nThe setting at Camp IAWAH will surround us with the quiet fall colours to rest our souls\, and the delights of sharing meals together\, prepared for us. \nThis gathering will be for the pastoral community and leaders of Christian ministries in the National Capital Region. Spouses are encouraged to attend. Register today!\n——-\nIl y a un grand potentiel lorsque les pasteurs et les dirigeants d’une région donnent la priorité à une vie de prière saine qui inclut de le faire ensemble. \nNotre approche au Sommet de cette année sera de renoncer à avoir un orateur\, au profit d’une expérience de prière plus complète. Nos animateurs nous aideront à prendre soin de notre vie intérieure avec le Seigneur par le biais d’adorations et de pratiques contemplatives. \nVous pouvez vous inscrire via Eventbrite \nNous ne nous arrêterons pas là\, mais nous poursuivrons également Dieu ensemble dans la pétition pour les églises des autres et la santé spirituelle de notre région et au-delà. \nLe cadre du Camp IAWAH nous entourera des couleurs d’automne tranquilles pour reposer nos âmes et des délices de partager ensemble les repas préparés pour nous. \nCe rassemblement s’adressera à la communauté pastorale et aux responsables des ministères chrétiens de la région de la capitale nationale. Les conjoints sont encouragés à y assister. Inscrivez-vous aujourd’hui! \nFacilitators/Facilitateurs Steve and Patti Buss  \nSteve and Patti Buss live to see the unlimited potential of the united Church in a community reflect Jesus and advance His kingdom. Together\, they lead the One Hope Network in Eugene\, Oregon\, a framework for local churches to Pray Together\, Serve the Community Together and Share the Gospel Together. \nSteve et Patti Buss vivent pour voir le potentiel illimité de l’Église unie dans une communauté qui reflète Jésus et faire progresser son royaume. Ensemble\, ils dirigent le One Hope Network à Eugene\, Oregon\, un cadre permettant aux églises locales de prier ensemble\, de servir la communauté ensemble et de partager l’Évangile ensemble.
URL:https://onewayministries.ca/event-calendar/prayer-summit-for-pastors-and-ministry-leaders/
LOCATION:Camp Iawah\, 304 Iawah Rd\, Godfrey\, ON K0H 1T0\, Canada
CATEGORIES:Ministry Wives,One Way Ministries,Pastors Network,Pray Ottawa
ATTACH;FMTTYPE=image/png:https://onewayministries.ca/wp-content/uploads/2022/05/PrayerSummit_emailbanner-small.png
END:VEVENT
BEGIN:VEVENT
DTSTART;TZID=America/Toronto:20220907T073000
DTEND;TZID=America/Toronto:20220907T130000
DTSTAMP:20260423T170121
CREATED:20220210T180334Z
LAST-MODIFIED:20220527T170807Z
UID:10000025-1662535800-1662555600@onewayministries.ca
SUMMARY:OWM Open Golf Tournament - Save the Date
DESCRIPTION:Join us for this great morning of golf! Come for 18 holes of golf with a cart\, lunch\, prizes and time to get to know some great people!\n\nWe will be using the Scramble format to accommodate all levels of golfers from rookies to veterans.\n\nBe sure to invite a pastor or leader who hasn’t joined us before! This will be a fun day for them to meet other leaders.\n\nPut the date in your calendar – September 7\, 2022.  More details to follow!
URL:https://onewayministries.ca/event-calendar/owm-open-golf-tournament-save-the-date/
CATEGORIES:Ministry Wives,One Way Ministries,Pastors Network
END:VEVENT
BEGIN:VEVENT
DTSTART;TZID=America/Toronto:20220224T130000
DTEND;TZID=America/Toronto:20220224T140000
DTSTAMP:20260423T170121
CREATED:20220207T132832Z
LAST-MODIFIED:20220207T185348Z
UID:10000022-1645707600-1645711200@onewayministries.ca
SUMMARY:Wednesday Pastor's Prayer Call
DESCRIPTION:Since COVID-19 hit in March 2020\, pastor’s have been meeting online to share their experiences and practices\, get to know other pastors in the city and to pray with one another. \nIf you are a pastor looking for a connection with others\, join us every Wednesday from 1:00 – 2:00 pm online.  This is a ‘recurring event’ so you can join any week! \nContact janice@onewayministries.ca to receive the link for these calls.
URL:https://onewayministries.ca/event-calendar/wednesday-pastors-prayer-call-2/2022-02-24/
CATEGORIES:Pastors Network
END:VEVENT
BEGIN:VEVENT
DTSTART;TZID=America/Toronto:20211218T130000
DTEND;TZID=America/Toronto:20211218T140000
DTSTAMP:20260423T170121
CREATED:20210811T201355Z
LAST-MODIFIED:20211110T164706Z
UID:10000017-1639832400-1639836000@onewayministries.ca
SUMMARY:Wednesday Pastor's Prayer Call
DESCRIPTION:Since COVID-19 hit in March 2020\, pastor’s have been meeting online to share their experiences and practices\, get to know other pastors in the city and to pray with one another. \nIf you are a pastor looking for a connection with others\, join us every Wednesday from 1:00 – 2:00 pm online. \nContact janice@onewayministries.ca to receive the link for these calls.
URL:https://onewayministries.ca/event-calendar/wednesday-pastors-prayer-call/2021-12-18/
CATEGORIES:Pastors Network
END:VEVENT
BEGIN:VEVENT
DTSTART;TZID=America/Toronto:20211126T090000
DTEND;TZID=America/Toronto:20211126T120000
DTSTAMP:20260423T170121
CREATED:20211109T165952Z
LAST-MODIFIED:20211110T233918Z
UID:10000018-1637917200-1637928000@onewayministries.ca
SUMMARY:Leading your Church Through Choppy Waters
DESCRIPTION:Leading your Church Through Choppy Waters\nNovember 26th\, 9:00 am – 12:00 pm\nONLINE Event\nJoin our friends from the Acacia Group as they lead us through some of the issues we need to deal with in our current Canadian environment. This seminar will help your church or ministry to thrive while protecting it in a culture that is increasingly more hostile to the Christian faith. \nThis session will be ideal for both church leaders and board members. It will be recorded and shared with all who register. \nContent: \n\nIssues relating to employment and human rights. What the law permits and where you need to protect.\nConversion therapy update.\nStrategic Communications: what to do and what to avoid.\nHow to protect your church or ministry.\n\nClick here to REGISTER and Receive the Zoom Link
URL:https://onewayministries.ca/event-calendar/choppywaters/
CATEGORIES:One Way Ministries,Pastors Network
ATTACH;FMTTYPE=image/jpeg:https://onewayministries.ca/wp-content/uploads/2021/11/Choppy-Waters.jpg
END:VEVENT
BEGIN:VEVENT
DTSTART;TZID=America/Toronto:20211118T130000
DTEND;TZID=America/Toronto:20211118T140000
DTSTAMP:20260423T170121
CREATED:20210811T201355Z
LAST-MODIFIED:20211110T164706Z
UID:10000016-1637240400-1637244000@onewayministries.ca
SUMMARY:Wednesday Pastor's Prayer Call
DESCRIPTION:Since COVID-19 hit in March 2020\, pastor’s have been meeting online to share their experiences and practices\, get to know other pastors in the city and to pray with one another. \nIf you are a pastor looking for a connection with others\, join us every Wednesday from 1:00 – 2:00 pm online. \nContact janice@onewayministries.ca to receive the link for these calls.
URL:https://onewayministries.ca/event-calendar/wednesday-pastors-prayer-call/2021-11-18/
CATEGORIES:Pastors Network
END:VEVENT
BEGIN:VEVENT
DTSTART;TZID=America/Toronto:20211018T130000
DTEND;TZID=America/Toronto:20211018T140000
DTSTAMP:20260423T170121
CREATED:20210811T201355Z
LAST-MODIFIED:20211110T164706Z
UID:10000015-1634562000-1634565600@onewayministries.ca
SUMMARY:Wednesday Pastor's Prayer Call
DESCRIPTION:Since COVID-19 hit in March 2020\, pastor’s have been meeting online to share their experiences and practices\, get to know other pastors in the city and to pray with one another. \nIf you are a pastor looking for a connection with others\, join us every Wednesday from 1:00 – 2:00 pm online. \nContact janice@onewayministries.ca to receive the link for these calls.
URL:https://onewayministries.ca/event-calendar/wednesday-pastors-prayer-call/2021-10-18/
CATEGORIES:Pastors Network
END:VEVENT
BEGIN:VEVENT
DTSTART;TZID=America/Toronto:20210918T130000
DTEND;TZID=America/Toronto:20210918T140000
DTSTAMP:20260423T170121
CREATED:20210811T201355Z
LAST-MODIFIED:20211110T164706Z
UID:10000014-1631970000-1631973600@onewayministries.ca
SUMMARY:Wednesday Pastor's Prayer Call
DESCRIPTION:Since COVID-19 hit in March 2020\, pastor’s have been meeting online to share their experiences and practices\, get to know other pastors in the city and to pray with one another. \nIf you are a pastor looking for a connection with others\, join us every Wednesday from 1:00 – 2:00 pm online. \nContact janice@onewayministries.ca to receive the link for these calls.
URL:https://onewayministries.ca/event-calendar/wednesday-pastors-prayer-call/2021-09-18/
CATEGORIES:Pastors Network
END:VEVENT
BEGIN:VEVENT
DTSTART;TZID=America/Toronto:20210818T130000
DTEND;TZID=America/Toronto:20210818T140000
DTSTAMP:20260423T170121
CREATED:20210811T201355Z
LAST-MODIFIED:20211110T164706Z
UID:10000013-1629291600-1629295200@onewayministries.ca
SUMMARY:Wednesday Pastor's Prayer Call
DESCRIPTION:Since COVID-19 hit in March 2020\, pastor’s have been meeting online to share their experiences and practices\, get to know other pastors in the city and to pray with one another. \nIf you are a pastor looking for a connection with others\, join us every Wednesday from 1:00 – 2:00 pm online. \nContact janice@onewayministries.ca to receive the link for these calls.
URL:https://onewayministries.ca/event-calendar/wednesday-pastors-prayer-call/2021-08-18/
CATEGORIES:Pastors Network
END:VEVENT
END:VCALENDAR