BEGIN:VCALENDAR
VERSION:2.0
PRODID:-//One Way Ministries - ECPv6.15.20//NONSGML v1.0//EN
CALSCALE:GREGORIAN
METHOD:PUBLISH
X-WR-CALNAME:One Way Ministries
X-ORIGINAL-URL:https://onewayministries.ca
X-WR-CALDESC:Events for One Way Ministries
REFRESH-INTERVAL;VALUE=DURATION:PT1H
X-Robots-Tag:noindex
X-PUBLISHED-TTL:PT1H
BEGIN:VTIMEZONE
TZID:America/Toronto
BEGIN:DAYLIGHT
TZOFFSETFROM:-0500
TZOFFSETTO:-0400
TZNAME:EDT
DTSTART:20220313T070000
END:DAYLIGHT
BEGIN:STANDARD
TZOFFSETFROM:-0400
TZOFFSETTO:-0500
TZNAME:EST
DTSTART:20221106T060000
END:STANDARD
BEGIN:DAYLIGHT
TZOFFSETFROM:-0500
TZOFFSETTO:-0400
TZNAME:EDT
DTSTART:20230312T070000
END:DAYLIGHT
BEGIN:STANDARD
TZOFFSETFROM:-0400
TZOFFSETTO:-0500
TZNAME:EST
DTSTART:20231105T060000
END:STANDARD
BEGIN:DAYLIGHT
TZOFFSETFROM:-0500
TZOFFSETTO:-0400
TZNAME:EDT
DTSTART:20240310T070000
END:DAYLIGHT
BEGIN:STANDARD
TZOFFSETFROM:-0400
TZOFFSETTO:-0500
TZNAME:EST
DTSTART:20241103T060000
END:STANDARD
END:VTIMEZONE
BEGIN:VEVENT
DTSTART;TZID=America/Toronto:20230423T180000
DTEND;TZID=America/Toronto:20230423T200000
DTSTAMP:20260425T224709
CREATED:20230321T205403Z
LAST-MODIFIED:20230321T224734Z
UID:10000044-1682272800-1682280000@onewayministries.ca
SUMMARY:Dig & Delve Dialogue
DESCRIPTION:DIG & DELVE and the South Asian Christian Fellowship Present:\nAn Evening with Vishal Mangalwadi\nSunday\, April 23rd\, 6:00 pm \nSt. Paul’s Presbyterian Church\, Woodroffe Ave. \nDIG & DELVE and the South Asian Christian Fellowship invite you to come to this special evening with Vishal. He will be sharing with us thoughts stemming from his recent book “The Book that Made Your World: How the Bible Created the Soul of Western Civilization”.\nThere will be no charge for this event but a free-will offering will be taken. Stay afterwards for a time of light refreshments and conversation. \nCLICK HERE TO REGISTER \n“In this postmodern age many think that no one can know Truth.\nIt is true that we cannot know truth if there is no revelation from God.” – Vishal Mangalwadi
URL:https://onewayministries.ca/event-calendar/dig-delve-dialogue/
LOCATION:St. Paul’s Presbyterian Church\, 971 Woodroffe Avenue Ottawa\, ON K2A 3G9
CATEGORIES:Love Ottawa,One Way Ministries,Pastors Network,Workplace Network
END:VEVENT
BEGIN:VEVENT
DTSTART;VALUE=DATE:20230430
DTEND;VALUE=DATE:20230501
DTSTAMP:20260425T224709
CREATED:20210809T175318Z
LAST-MODIFIED:20220311T192429Z
UID:10000007-1682812800-1682899199@onewayministries.ca
SUMMARY:Click EVENTS on the menu bar to see our full list of events
DESCRIPTION:Sign up for our newsletter to keep up to date.\nDo you have a question about an OWM Event? Let us know about it by filling out the form below. Be sure to check off all the categories your query applies to. \n\n			\n				\n				\n				\n				\n				\n				\n				\n				\n					\n						\n				\n				\n				\n				\n				Name\n				\n			 \n				\n				\n				\n				\n				Email Address\n				\n			 \n				\n				\n				\n				\n				Event Name\n				\n			 \n				\n				\n				\n				\n				Event Details - What questions do you have?\n				\n			 \n				\n				\n				\n				\n				Category\n				\n					\n						Category\n						\n							\n							City-wide event\n						\n							\n							Prayer-related\n						\n							\n							Pastors-related\n						\n							\n							Workplace-related\n						\n							\n							Ministry Wives-related\n						\n							\n							Other\n						\n					\n			 \n						\n						\n							\n							SEND
URL:https://onewayministries.ca/event-calendar/click-view-calendar-to-see-our-full-list-of-events/
CATEGORIES:Love Ottawa,Ministry Wives,One Way Ministries,Pastors Network,Pray Ottawa,Workplace Network
END:VEVENT
END:VCALENDAR