BEGIN:VCALENDAR
VERSION:2.0
PRODID:-//One Way Ministries - ECPv6.15.20//NONSGML v1.0//EN
CALSCALE:GREGORIAN
METHOD:PUBLISH
X-ORIGINAL-URL:https://onewayministries.ca
X-WR-CALDESC:Events for One Way Ministries
REFRESH-INTERVAL;VALUE=DURATION:PT1H
X-Robots-Tag:noindex
X-PUBLISHED-TTL:PT1H
BEGIN:VTIMEZONE
TZID:America/Toronto
BEGIN:DAYLIGHT
TZOFFSETFROM:-0500
TZOFFSETTO:-0400
TZNAME:EDT
DTSTART:20250309T070000
END:DAYLIGHT
BEGIN:STANDARD
TZOFFSETFROM:-0400
TZOFFSETTO:-0500
TZNAME:EST
DTSTART:20251102T060000
END:STANDARD
BEGIN:DAYLIGHT
TZOFFSETFROM:-0500
TZOFFSETTO:-0400
TZNAME:EDT
DTSTART:20260308T070000
END:DAYLIGHT
BEGIN:STANDARD
TZOFFSETFROM:-0400
TZOFFSETTO:-0500
TZNAME:EST
DTSTART:20261101T060000
END:STANDARD
BEGIN:DAYLIGHT
TZOFFSETFROM:-0500
TZOFFSETTO:-0400
TZNAME:EDT
DTSTART:20270314T070000
END:DAYLIGHT
BEGIN:STANDARD
TZOFFSETFROM:-0400
TZOFFSETTO:-0500
TZNAME:EST
DTSTART:20271107T060000
END:STANDARD
END:VTIMEZONE
BEGIN:VEVENT
DTSTART;TZID=America/Toronto:20260421T183000
DTEND;TZID=America/Toronto:20260421T204500
DTSTAMP:20260423T184205
CREATED:20260407T215311Z
LAST-MODIFIED:20260408T133025Z
UID:10000093-1776796200-1776804300@onewayministries.ca
SUMMARY:Ministry Wives Spring Cafe
DESCRIPTION:For Women Married to Ministers \nOver the past few years\, we’ve been hosting an evening café for women in the Ottawa area who share the unique calling of being married to a pastor or ministry leader. Ministry Wives is a space for women who are married to pastors and ministry leaders. Whether you are serving in ministry yourself\, working in another vocation\, or at home in this season\, if you are married to a pastor or ministry leader\, this community is for you.  It’s simply a space for ministry wives to come together\, be encouraged\, and know you’re not alone. \nWe’d love for you to join us on April 21st for a relaxed evening\, where we can connect with one another\, worship together\, enjoy some delicious dessert\, and receive an encouraging word. \nOur dear friend\, Vanessa Dawson\, will share from a tender and hope-filled place about how God meets us in every part of our story. \nDate: Tuesday April 21st\nTime: 6:30 pm\nPlace: Carlington Booch\, 81 Auriga Rd\n(Just down the road from the One Way office).
URL:https://onewayministries.ca/event-calendar/ministry-wives-spring-cafe-2/
CATEGORIES:Ministry Wives,One Way Ministries,Pastors Network
ATTACH;FMTTYPE=image/webp:https://onewayministries.ca/wp-content/uploads/2026/04/Floral-Fade-Spring-Festival-Facebook-Post.webp
END:VEVENT
END:VCALENDAR