BEGIN:VCALENDAR
VERSION:2.0
PRODID:-//One Way Ministries - ECPv6.15.20//NONSGML v1.0//EN
CALSCALE:GREGORIAN
METHOD:PUBLISH
X-WR-CALNAME:One Way Ministries
X-ORIGINAL-URL:https://onewayministries.ca
X-WR-CALDESC:Events for One Way Ministries
REFRESH-INTERVAL;VALUE=DURATION:PT1H
X-Robots-Tag:noindex
X-PUBLISHED-TTL:PT1H
BEGIN:VTIMEZONE
TZID:America/Toronto
BEGIN:DAYLIGHT
TZOFFSETFROM:-0500
TZOFFSETTO:-0400
TZNAME:EDT
DTSTART:20200308T070000
END:DAYLIGHT
BEGIN:STANDARD
TZOFFSETFROM:-0400
TZOFFSETTO:-0500
TZNAME:EST
DTSTART:20201101T060000
END:STANDARD
BEGIN:DAYLIGHT
TZOFFSETFROM:-0500
TZOFFSETTO:-0400
TZNAME:EDT
DTSTART:20210314T070000
END:DAYLIGHT
BEGIN:STANDARD
TZOFFSETFROM:-0400
TZOFFSETTO:-0500
TZNAME:EST
DTSTART:20211107T060000
END:STANDARD
BEGIN:DAYLIGHT
TZOFFSETFROM:-0500
TZOFFSETTO:-0400
TZNAME:EDT
DTSTART:20220313T070000
END:DAYLIGHT
BEGIN:STANDARD
TZOFFSETFROM:-0400
TZOFFSETTO:-0500
TZNAME:EST
DTSTART:20221106T060000
END:STANDARD
BEGIN:DAYLIGHT
TZOFFSETFROM:-0500
TZOFFSETTO:-0400
TZNAME:EDT
DTSTART:20230312T070000
END:DAYLIGHT
BEGIN:STANDARD
TZOFFSETFROM:-0400
TZOFFSETTO:-0500
TZNAME:EST
DTSTART:20231105T060000
END:STANDARD
END:VTIMEZONE
BEGIN:VEVENT
DTSTART;TZID=America/Toronto:20220922T120000
DTEND;TZID=America/Toronto:20220922T124500
DTSTAMP:20260423T184020
CREATED:20220906T191625Z
LAST-MODIFIED:20220906T191824Z
UID:10000041-1663848000-1663850700@onewayministries.ca
SUMMARY:Taking our Faith to Work Series with Rebecca and David van Noppen
DESCRIPTION:Finding Purpose in Life and Work \nThe first session of the Fall 2022 Taking Our Faith to Work Series will be on Thursday\, September 22nd. Our guests for this session are Rebecca and David van Noppen who lead More Than Enough Financial Fitness. https://morethanenough.ca/\, Their mission is “Empowering others to effectively manage their financial resources and experience the abundant life of Jesus Christ\, through coaching\, teaching\, planning and enabling people to reach for their created purpose.” Rebecca is also the author of the book Cultivating Trust. Finding God’s Hope and Freedom For Your Finances. Join us over lunch to be encouraged and inspired! \nREGISTER HERE FOR THIS EVENT
URL:https://onewayministries.ca/event-calendar/taking-our-faith-to-work-series-with-rebecca-and-david-van-noppen/
LOCATION:Online
CATEGORIES:One Way Ministries,Workplace Network
ATTACH;FMTTYPE=image/png:https://onewayministries.ca/wp-content/uploads/2022/09/Dave-and-Rebecca-1.png
ORGANIZER;CN="Workplace Network":MAILTO:workplacenetwork@onewayministries.ca
END:VEVENT
BEGIN:VEVENT
DTSTART;TZID=America/Toronto:20220914T080000
DTEND;TZID=America/Toronto:20220914T150000
DTSTAMP:20260423T184020
CREATED:20220718T185125Z
LAST-MODIFIED:20220718T185532Z
UID:10000036-1663142400-1663167600@onewayministries.ca
SUMMARY:Date with God - September 14th
DESCRIPTION:Spending an extended time abiding in God’s presence enables us to hear the still\, quiet voice of God and sense the direction he has for us.\n\nWith fall just around the corner\, it seems like a perfect time to take a day to lock eyes with God and to hear His voice.\n\n“…for it is in the silence of the heart that God speaks. God is the friend of silence – we need to listen to God because it’s not what we say but what He says to us and through us that matters….” Mother Teresa\n\nSpending an extended time abiding in our Lord’s presence enables us to hear the still\, quiet voice of God. When we are intentional about setting this time aside\, we gain wisdom and experience refreshment\, grace\, and release from burdens that we are carrying. And we emerge with a renewed sense of peace and joy that comes from experiencing a sense of togetherness with God.\n\nThere is never a “convenient” time to be with the Lord. It takes discipline and courage to carve this time out. Block September 14th in your calendar and register now for this virtual Silent Retreat of listening time of prayer with the Lord\, which will be facilitated by Doug Sprunt of One Way Ministries.\n\nPlease note that this is a full-day event and is limited to 24 participants. We would ask that everyone who registers be able to commit to being present from 8:00 to 3:00.\n\nREGISTER HERE FOR THIS EVENT!
URL:https://onewayministries.ca/event-calendar/date-with-god-september14th/
LOCATION:Online
CATEGORIES:One Way Ministries,Workplace Network
ATTACH;FMTTYPE=image/jpeg:https://onewayministries.ca/wp-content/uploads/2021/08/date-with-God-fall.jpg
ORGANIZER;CN="Workplace Network":MAILTO:workplacenetwork@onewayministries.ca
END:VEVENT
BEGIN:VEVENT
DTSTART;TZID=America/Toronto:20220907T073000
DTEND;TZID=America/Toronto:20220907T130000
DTSTAMP:20260423T184020
CREATED:20220210T180334Z
LAST-MODIFIED:20220527T170807Z
UID:10000025-1662535800-1662555600@onewayministries.ca
SUMMARY:OWM Open Golf Tournament - Save the Date
DESCRIPTION:Join us for this great morning of golf! Come for 18 holes of golf with a cart\, lunch\, prizes and time to get to know some great people!\n\nWe will be using the Scramble format to accommodate all levels of golfers from rookies to veterans.\n\nBe sure to invite a pastor or leader who hasn’t joined us before! This will be a fun day for them to meet other leaders.\n\nPut the date in your calendar – September 7\, 2022.  More details to follow!
URL:https://onewayministries.ca/event-calendar/owm-open-golf-tournament-save-the-date/
CATEGORIES:Ministry Wives,One Way Ministries,Pastors Network
END:VEVENT
BEGIN:VEVENT
DTSTART;TZID=America/Toronto:20220831T120000
DTEND;TZID=America/Toronto:20220831T124500
DTSTAMP:20260423T184020
CREATED:20220809T171842Z
LAST-MODIFIED:20220809T174028Z
UID:10000037-1661947200-1661949900@onewayministries.ca
SUMMARY:Workplace Prayer Groups Networking Meeting
DESCRIPTION:Lunchtime networking event for Workplace Prayer Groups \nAre you leading or active in a workplace Christian prayer group\, bible study or support group? \nOr would you like to join or start one?  \nOne Way Ministries Workplace Network is organizing a lunchtime networking event Wednesday\, August 31st bringing together Christians from across Ottawa\, across different workplaces\, across denominations\, and across the public and private sectors. We share experiences\, encourage one another\, and pray for one another. \nWorkplace Prayer Groups are groups who pray together\, do a bible study together and/or share what is happening in their work and seek guidance from a Christian perspective. Members have enough in common\, so they understand each other\, can help each other and pray for one another and their workplace.  \nThere are already several workplace prayer groups in both the private and public sectors operating in Ottawa. One Way Ministries Workplace Network’s heart is to see a multiplication of these groups and be a coordination point for those interested to join or start such a group. \nThis event is being offered at no charge but if you would like to support the ministry of the Workplace Network\, please click here.
URL:https://onewayministries.ca/event-calendar/prayer-groups-networking-meeting/
LOCATION:Online
CATEGORIES:One Way Ministries,Workplace Network
ATTACH;FMTTYPE=image/jpeg:https://onewayministries.ca/wp-content/uploads/2022/02/PGM.jpg
ORGANIZER;CN="Workplace Network":MAILTO:workplacenetwork@onewayministries.ca
END:VEVENT
BEGIN:VEVENT
DTSTART;TZID=America/Toronto:20220628T120000
DTEND;TZID=America/Toronto:20220628T124500
DTSTAMP:20260423T184020
CREATED:20220511T141406Z
LAST-MODIFIED:20220511T141645Z
UID:10000034-1656417600-1656420300@onewayministries.ca
SUMMARY:Prayer Group Leaders Networking Meeting
DESCRIPTION:A lunchtime networking event for Workplace Prayer Group Leaders! \nAre you leading a workplace Christian prayer group\, bible study or support group? \nOr would you like to start one?  \nOne Way Ministries Workplace Network is organizing a lunchtime networking event Tuesday\, Mat 10th bringing together Christian leaders from across Ottawa\, across different workplaces\, across denominations\, and across the public and private sectors. We share experiences\, encourage one another\, and pray for one another. \nWorkplace Prayer Groups are groups who pray together\, do a bible study together and/or share what is happening in their work and seek guidance from a Christian perspective. Members have enough in common\, so they understand each other\, can help each other and pray for one another and their workplace.  \nThere are already several workplace prayer groups in both the private and public sectors operating in Ottawa. One Way Ministries Workplace Network’s heart is to see a multiplication of these groups and be a coordination point for those interested to join or start such a group. \nREGISTER!
URL:https://onewayministries.ca/event-calendar/prayer-group-leaders-networking-meeting-2/
LOCATION:Online
CATEGORIES:One Way Ministries,Workplace Network
ATTACH;FMTTYPE=image/jpeg:https://onewayministries.ca/wp-content/uploads/2022/02/PGM.jpg
ORGANIZER;CN="Workplace Network":MAILTO:workplacenetwork@onewayministries.ca
END:VEVENT
BEGIN:VEVENT
DTSTART;TZID=America/Toronto:20220615T080000
DTEND;TZID=America/Toronto:20220615T150000
DTSTAMP:20260423T184020
CREATED:20220426T135303Z
LAST-MODIFIED:20220426T135341Z
UID:10000033-1655280000-1655305200@onewayministries.ca
SUMMARY:Date with God - June 15th
DESCRIPTION:Spending an extended time abiding in God’s presence enables us to hear the still\, quiet voice of God and sense the direction he has for us.\n\nWith summer upon us\, it seems like a perfect time to take a day to lock eyes with God and to hear His voice.\n\n“…for it is in the silence of the heart that God speaks. God is the friend of silence – we need to listen to God because it’s not what we say but what He says to us and through us that matters….” Mother Teresa\n\nSpending an extended time abiding in our Lord’s presence enables us to hear the still\, quiet voice of God. When we are intentional about setting this time aside\, we gain wisdom and experience refreshment\, grace\, and release from burdens that we are carrying. And we emerge with a renewed sense of peace and joy that comes from experiencing a sense of togetherness with God.\n\nThere is never a “convenient” time to be with the Lord. It takes discipline and courage to carve this time out. Block June 15th in your calendar and register now for this virtual Silent Retreat of listening time of prayer with the Lord\, which will be facilitated by Doug Sprunt of One Way Ministries.\n\nPlease note that this is a full-day event and is limited to 24 participants. We would ask that everyone who registers be able to commit to being present from 8:00 to 3:00.\n\nREGISTER HERE FOR THIS EVENT!
URL:https://onewayministries.ca/event-calendar/date-with-god-june-15th/
LOCATION:Online
CATEGORIES:One Way Ministries,Workplace Network
ATTACH;FMTTYPE=image/jpeg:https://onewayministries.ca/wp-content/uploads/2022/04/Summer.jpg
ORGANIZER;CN="Workplace Network":MAILTO:workplacenetwork@onewayministries.ca
END:VEVENT
BEGIN:VEVENT
DTSTART;TZID=America/Toronto:20220608T120000
DTEND;TZID=America/Toronto:20220608T124500
DTSTAMP:20260423T184020
CREATED:20220314T184258Z
LAST-MODIFIED:20220314T184341Z
UID:10000029-1654689600-1654692300@onewayministries.ca
SUMMARY:Taking Our Faith to Work - Julienne Loh
DESCRIPTION:A lunchtime event in which we hear from fellow believers what taking their faith to work means. \nIn this interactive session\, you will hear from Julienne Loh about what bringing Christ’s love into her workplace means. Julienne is Executive Vice President\, Enterprise Partnerships\, Asia Pacific\, at Mastercard. \nGet Connected – Get Inspired – Learn and Grow \nTake YOUR Faith to work! \nREGISTER HERE!
URL:https://onewayministries.ca/event-calendar/taking-our-faith-to-work-julienne-loh/
LOCATION:Online
CATEGORIES:One Way Ministries,Workplace Network
ATTACH;FMTTYPE=image/jpeg:https://onewayministries.ca/wp-content/uploads/2022/03/Julienne.jpg
ORGANIZER;CN="Workplace Network":MAILTO:workplacenetwork@onewayministries.ca
END:VEVENT
BEGIN:VEVENT
DTSTART;TZID=America/Toronto:20220517T120000
DTEND;TZID=America/Toronto:20220517T124500
DTSTAMP:20260423T184020
CREATED:20220311T192105Z
LAST-MODIFIED:20220311T192307Z
UID:10000028-1652788800-1652791500@onewayministries.ca
SUMMARY:Taking Our Faith to Work - James Bruyn
DESCRIPTION:A lunchtime event in which we hear from fellow believers what taking their faith to work means. \nIn this interactive session\, you will hear from James Bruyn. James is the director of Faith At Work Network\, and a software architect/software engineer for train control safety systems. \nGet Connected – Get Inspired – Learn and Grow \nTake YOUR Faith to work! \nREGISTER HERE!
URL:https://onewayministries.ca/event-calendar/taking-our-faith-to-work-james-bruyn/
LOCATION:Online
CATEGORIES:One Way Ministries,Workplace Network
ATTACH;FMTTYPE=image/jpeg:https://onewayministries.ca/wp-content/uploads/2022/03/James-Bruyn.jpeg
ORGANIZER;CN="Workplace Network":MAILTO:workplacenetwork@onewayministries.ca
END:VEVENT
BEGIN:VEVENT
DTSTART;TZID=America/Toronto:20220510T120000
DTEND;TZID=America/Toronto:20220510T124500
DTSTAMP:20260423T184020
CREATED:20220419T204048Z
LAST-MODIFIED:20220419T204216Z
UID:10000032-1652184000-1652186700@onewayministries.ca
SUMMARY:Prayer Group Leaders Networking Meeting
DESCRIPTION:A lunchtime networking event for Workplace Prayer Group Leaders! \nAre you leading a workplace Christian prayer group\, bible study or support group? \nOr would you like to start one?  \nOne Way Ministries Workplace Network is organizing a lunchtime networking event Tuesday\, Mat 10th bringing together Christian leaders from across Ottawa\, across different workplaces\, across denominations\, and across the public and private sectors. We share experiences\, encourage one another\, and pray for one another. \nWorkplace Prayer Groups are groups who pray together\, do a bible study together and/or share what is happening in their work and seek guidance from a Christian perspective. Members have enough in common\, so they understand each other\, can help each other and pray for one another and their workplace.  \nThere are already several workplace prayer groups in both the private and public sectors operating in Ottawa. One Way Ministries Workplace Network’s heart is to see a multiplication of these groups and be a coordination point for those interested to join or start such a group. \nREGISTER!
URL:https://onewayministries.ca/event-calendar/prayer-group-leaders-networking-meeting/
LOCATION:Online
CATEGORIES:One Way Ministries,Workplace Network
ATTACH;FMTTYPE=image/jpeg:https://onewayministries.ca/wp-content/uploads/2022/02/PGM.jpg
ORGANIZER;CN="Workplace Network":MAILTO:workplacenetwork@onewayministries.ca
END:VEVENT
BEGIN:VEVENT
DTSTART;TZID=America/Toronto:20220426T120000
DTEND;TZID=America/Toronto:20220426T124500
DTSTAMP:20260423T184020
CREATED:20220311T191300Z
LAST-MODIFIED:20220311T192334Z
UID:10000027-1650974400-1650977100@onewayministries.ca
SUMMARY:Taking Our Faith to Work - Edmond Wega
DESCRIPTION:A lunchtime event in which we hear from fellow believers what taking their faith to work means. \nIn this interactive session\, you will hear from Edmond Wega\, Director General\, International Assistance Operations at Global Affairs Canada. Prior to that\, he was Canada’s Ambassador to Burkina Faso also accredited to Benin. \nGet Connected – Get Inspired – Learn and Grow \nTake YOUR Faith to work! \nREGISTER HERE!
URL:https://onewayministries.ca/event-calendar/taking-our-faith-to-work-edmond-wega/
LOCATION:Online
CATEGORIES:One Way Ministries,Workplace Network
ATTACH;FMTTYPE=image/jpeg:https://onewayministries.ca/wp-content/uploads/2022/03/Edmund.jpg
ORGANIZER;CN="Workplace Network":MAILTO:workplacenetwork@onewayministries.ca
END:VEVENT
BEGIN:VEVENT
DTSTART;TZID=America/Toronto:20220414T120000
DTEND;TZID=America/Toronto:20220414T124500
DTSTAMP:20260423T184020
CREATED:20220404T185229Z
LAST-MODIFIED:20220404T185405Z
UID:10000031-1649937600-1649940300@onewayministries.ca
SUMMARY:Workplace Network Easter Reading 2022
DESCRIPTION:Workplace Network lunchtime event commemorating the crucifixion of Jesus and celebration of His resurrection.\nPlease join us Thursday\, April 14 for a reading of Matthew 26 – 28\, and invite a colleague for whom this reading may be their sole opportunity this Easter to hear such Good News.\n\nREGISTER HERE
URL:https://onewayministries.ca/event-calendar/workplace-network-easter-reading-2022/
LOCATION:Online
CATEGORIES:One Way Ministries,Workplace Network
ATTACH;FMTTYPE=image/png:https://onewayministries.ca/wp-content/uploads/2022/04/Easter.png
ORGANIZER;CN="Workplace Network":MAILTO:workplacenetwork@onewayministries.ca
END:VEVENT
BEGIN:VEVENT
DTSTART;TZID=America/Toronto:20220407T103000
DTEND;TZID=America/Toronto:20220407T113000
DTSTAMP:20260423T184020
CREATED:20220322T162022Z
LAST-MODIFIED:20220322T162932Z
UID:10000030-1649327400-1649331000@onewayministries.ca
SUMMARY:Big Give Info Coffee Break
DESCRIPTION:April 7th\, 10:30 am\nIN-PERSON OR ONLINE \nWith JUNE 4th less than three months away\, we wanted to invite you and your team to an informational\, inspirational gathering to help build excitement for THE BIG GIVE 2022. You can come for coffee and join in-person or\, you can join online (a link will be sent to you after registration). \nBy attending this session\, you’ll hear some great stories from previous participants on the impact The Big Give has had on their church and their communities\, some time to ask questions and get all the information you need to make an informed decision and get some great event ideas that have proven to be successful for other churches. \nPRAY BIG\, DREAM BIG AND GIVE BIG! \nClick HERE to register
URL:https://onewayministries.ca/event-calendar/big-give-info-coffee-break/
LOCATION:Vineyard Ottawa\, 51 Greenbank Road\, Nepean\, Ontario\, K2H 8K4\, Canada
CATEGORIES:Love Ottawa,One Way Ministries
END:VEVENT
BEGIN:VEVENT
DTSTART;TZID=America/Toronto:20220322T120000
DTEND;TZID=America/Toronto:20220322T124500
DTSTAMP:20260423T184020
CREATED:20220311T182911Z
LAST-MODIFIED:20220311T191505Z
UID:10000026-1647950400-1647953100@onewayministries.ca
SUMMARY:Taking Our Faith to Work - James Joh
DESCRIPTION:A lunchtime event in which we hear from fellow believers what taking their faith to work means. \nIn this interactive session\, you will hear from James Joh\, Founder and Coach at Avodah Leadership. James is a transformational coach for marketplace Christian leaders. He envisions leaders in every industry transforming the workplace by creatively translating their faith. \nGet Connected – Get Inspired – Learn and Grow \nTake YOUR Faith to work! \nREGISTER HERE!
URL:https://onewayministries.ca/event-calendar/taking-our-faith-to-work-james-joh/
LOCATION:Online
CATEGORIES:One Way Ministries,Workplace Network
ATTACH;FMTTYPE=image/png:https://onewayministries.ca/wp-content/uploads/2022/03/James-Joh.png
ORGANIZER;CN="Workplace Network":MAILTO:workplacenetwork@onewayministries.ca
END:VEVENT
BEGIN:VEVENT
DTSTART;TZID=America/Toronto:20220301T120000
DTEND;TZID=America/Toronto:20220301T124500
DTSTAMP:20260423T184020
CREATED:20220204T170746Z
LAST-MODIFIED:20220204T171302Z
UID:10000021-1646136000-1646138700@onewayministries.ca
SUMMARY:Workplace Prayer Group Leaders Networking Meeting
DESCRIPTION:Are you leading a workplace Christian prayer group\, bible study or support group? \nOr would you like to start one?  \nOne Way Ministries Workplace Network is organizing a lunchtime networking event Tuesday\, September 7th bringing together Christian leaders from across Ottawa\, across different workplaces\, across denominations\, and across the public and private sectors. We share experiences\, encourage one another\, and pray for one another. \nWorkplace Prayer Groups are groups who pray together\, do a bible study together and/or share what is happening in their work and seek guidance from a Christian perspective. Members have enough in common\, so they understand each other\, can help each other and pray for one another and their workplace.  \nThere are already several workplace prayer groups in both the private and public sectors operating in Ottawa. One Way Ministries Workplace Network’s heart is to see a multiplication of these groups and be a coordination point for those interested to join or start such a group. \nPlease REGISTER here \nThis event is being offered at no charge but if you would like to support the ministry of the Workplace Network\, please click here.
URL:https://onewayministries.ca/event-calendar/workplace-prayer-group-leaders-networking-meeting/
LOCATION:Online
CATEGORIES:One Way Ministries,Workplace Network
ATTACH;FMTTYPE=image/jpeg:https://onewayministries.ca/wp-content/uploads/2022/02/PGM.jpg
ORGANIZER;CN="Workplace Network":MAILTO:workplacenetwork@onewayministries.ca
END:VEVENT
BEGIN:VEVENT
DTSTART;TZID=America/Toronto:20220216T080000
DTEND;TZID=America/Toronto:20220216T150000
DTSTAMP:20260423T184020
CREATED:20220203T231951Z
LAST-MODIFIED:20220203T234142Z
UID:10000020-1644998400-1645023600@onewayministries.ca
SUMMARY:Date with God
DESCRIPTION:As we begin a new year\, it seems like a perfect time to take a day to lock eyes with God and to hear His voice. \n“…for it is in the silence of the heart that God speaks. God is the friend of silence – we need to listen to God because it’s not what we say but what He says to us and through us that matters….” Mother Teresa \nSpending an extended time abiding in our Lord’s presence enables us to hear the still\, quiet voice of God. When we are intentional about setting this time aside\, we gain wisdom and experience refreshment\, grace\, and release from burdens that we are carrying. And we emerge with a renewed sense of peace and joy that comes from experiencing a sense of togetherness with God.  \nThere is never a “convenient” time to be with the Lord. It takes discipline and courage to carve this time out. Block February 16th in your calendar and register now for this virtual Silent Retreat of listening time of prayer with the Lord\, which will be facilitated by Doug Sprunt of One Way Ministries. \nPlease note that this is a full-day event and is limited to 24 participants. We would ask that everyone who registers be able to commit to being present from 8:00 to 3:00. \nClick here to REGISTER \nThis event is being offered at no charge but if you would like to support the ministry of the Workplace Network\, please click here.
URL:https://onewayministries.ca/event-calendar/date-with-god/
LOCATION:Online
CATEGORIES:One Way Ministries,Workplace Network
ATTACH;FMTTYPE=image/jpeg:https://onewayministries.ca/wp-content/uploads/2022/02/Winter.jpg
ORGANIZER;CN="Workplace Network":MAILTO:workplacenetwork@onewayministries.ca
END:VEVENT
BEGIN:VEVENT
DTSTART;TZID=America/Toronto:20211126T090000
DTEND;TZID=America/Toronto:20211126T120000
DTSTAMP:20260423T184020
CREATED:20211109T165952Z
LAST-MODIFIED:20211110T233918Z
UID:10000018-1637917200-1637928000@onewayministries.ca
SUMMARY:Leading your Church Through Choppy Waters
DESCRIPTION:Leading your Church Through Choppy Waters\nNovember 26th\, 9:00 am – 12:00 pm\nONLINE Event\nJoin our friends from the Acacia Group as they lead us through some of the issues we need to deal with in our current Canadian environment. This seminar will help your church or ministry to thrive while protecting it in a culture that is increasingly more hostile to the Christian faith. \nThis session will be ideal for both church leaders and board members. It will be recorded and shared with all who register. \nContent: \n\nIssues relating to employment and human rights. What the law permits and where you need to protect.\nConversion therapy update.\nStrategic Communications: what to do and what to avoid.\nHow to protect your church or ministry.\n\nClick here to REGISTER and Receive the Zoom Link
URL:https://onewayministries.ca/event-calendar/choppywaters/
CATEGORIES:One Way Ministries,Pastors Network
ATTACH;FMTTYPE=image/jpeg:https://onewayministries.ca/wp-content/uploads/2021/11/Choppy-Waters.jpg
END:VEVENT
BEGIN:VEVENT
DTSTART;TZID=America/Toronto:20211029T073000
DTEND;TZID=America/Toronto:20211029T090000
DTSTAMP:20260423T184020
CREATED:20210723T204631Z
LAST-MODIFIED:20210723T205425Z
UID:10000006-1635492600-1635498000@onewayministries.ca
SUMMARY:Ottawa Civic Prayer Breakfast
DESCRIPTION:The featured speaker at this year’s OCPB will be Garth Steele. He will share how\, in his life and work\, as well as through his volunteer work in the city\, he has answered the theme question\, “Who is My Neighbour?” Garth will testify that when you say ‘Yes’ to God\, He will guide you\, provide inspiration\, and help you rise up out of your seat and start doing “stuff” for your neighbours in Jesus’ name.\n\nAn encouraging video sharing stories of some of what the Churches in Ottawa have been doing to make a difference in a pandemic will be shown.\n\nThe OCPB Committee is planning a breakfast that is a hybrid model of in-person and online.
URL:https://onewayministries.ca/event-calendar/ottawa-civic-prayer-breakfast/
CATEGORIES:Love Ottawa,One Way Ministries,Pray Ottawa
END:VEVENT
BEGIN:VEVENT
DTSTART;TZID=America/Toronto:20210908T073000
DTEND;TZID=America/Toronto:20210908T130000
DTSTAMP:20260423T184020
CREATED:20210715T234125Z
LAST-MODIFIED:20210723T204548Z
UID:10000005-1631086200-1631106000@onewayministries.ca
SUMMARY:OWM Open Golf Tournament
DESCRIPTION:Join us for this great morning of golf! Come for 18 holes of golf with a cart\, lunch\, prizes and time to get to know some great people!\n\nWe will be using the Scramble format to accommodate all levels of golfers from rookies to veterans.\n\nBe sure to invite a pastor or leader who hasn’t joined us before! This will be a fun day for them to meet other leaders.\n\nCost: $70/golfer
URL:https://onewayministries.ca/event-calendar/owm-open-golf-tournament/
LOCATION:The Meadows Golf & Country Club\, 4335 Hawthorne Road\, Gloucester\, ON\, K1G 3N4\, Canada
CATEGORIES:One Way Ministries
END:VEVENT
END:VCALENDAR