BEGIN:VCALENDAR
VERSION:2.0
PRODID:-//One Way Ministries - ECPv6.15.20//NONSGML v1.0//EN
CALSCALE:GREGORIAN
METHOD:PUBLISH
X-WR-CALNAME:One Way Ministries
X-ORIGINAL-URL:https://onewayministries.ca
X-WR-CALDESC:Events for One Way Ministries
REFRESH-INTERVAL;VALUE=DURATION:PT1H
X-Robots-Tag:noindex
X-PUBLISHED-TTL:PT1H
BEGIN:VTIMEZONE
TZID:America/Toronto
BEGIN:DAYLIGHT
TZOFFSETFROM:-0500
TZOFFSETTO:-0400
TZNAME:EDT
DTSTART:20250309T070000
END:DAYLIGHT
BEGIN:STANDARD
TZOFFSETFROM:-0400
TZOFFSETTO:-0500
TZNAME:EST
DTSTART:20251102T060000
END:STANDARD
BEGIN:DAYLIGHT
TZOFFSETFROM:-0500
TZOFFSETTO:-0400
TZNAME:EDT
DTSTART:20260308T070000
END:DAYLIGHT
BEGIN:STANDARD
TZOFFSETFROM:-0400
TZOFFSETTO:-0500
TZNAME:EST
DTSTART:20261101T060000
END:STANDARD
BEGIN:DAYLIGHT
TZOFFSETFROM:-0500
TZOFFSETTO:-0400
TZNAME:EDT
DTSTART:20270314T070000
END:DAYLIGHT
BEGIN:STANDARD
TZOFFSETFROM:-0400
TZOFFSETTO:-0500
TZNAME:EST
DTSTART:20271107T060000
END:STANDARD
END:VTIMEZONE
BEGIN:VEVENT
DTSTART;TZID=America/Toronto:20260109T190000
DTEND;TZID=America/Toronto:20260109T210000
DTSTAMP:20260423T202048
CREATED:20250722T213951Z
LAST-MODIFIED:20250722T213951Z
UID:10000084-1767985200-1767992400@onewayministries.ca
SUMMARY:One Church - One Day Launch Night
DESCRIPTION:One Church – One Day Launch Night\nJanuary 9\, 2026\, 7:00 – 9:00 pm\nCedarview Alliance Church \n \nWe’re officially launching 24/7 strategic prayer over Ottawa — and this is the citywide kickoff! \nEven now\, 21 congregations are already participating. Please visit the website for more info. The purpose of this evening will be to experience a moment to gather publicly for: \n\nWorship\nTestimonies\nUnited prayer for our city\n\nWe believe this is more than an event — it’s the start of a long-term\, coordinated prayer movement for Ottawa. \nSave the date and plan to join us!
URL:https://onewayministries.ca/event-calendar/one-church-one-day-launch-night/
LOCATION:Cedarview Alliance Church\, 2784 Cedarview Rd\, Nepean\, ON K2J 4J2
CATEGORIES:Love Ottawa,Ministry Wives,One Way Ministries,Pastors Network,Pray Ottawa,Workplace Network
END:VEVENT
END:VCALENDAR